BEGIN:VCALENDAR
VERSION:2.0
PRODID:-//Politistiko Ergastiri Ayion Omoloyiton - ECPv4.9.14//NONSGML v1.0//EN
CALSCALE:GREGORIAN
METHOD:PUBLISH
X-WR-CALNAME:Politistiko Ergastiri Ayion Omoloyiton
X-ORIGINAL-URL:https://politistiko-ergastiri.org
X-WR-CALDESC:Politistiko Ergastiri Ayion Omoloyiton - Εκδηλώσεις
BEGIN:VTIMEZONE
TZID:Europe/Helsinki
BEGIN:DAYLIGHT
TZOFFSETFROM:+0200
TZOFFSETTO:+0300
TZNAME:EEST
DTSTART:20250330T010000
END:DAYLIGHT
BEGIN:STANDARD
TZOFFSETFROM:+0300
TZOFFSETTO:+0200
TZNAME:EET
DTSTART:20251026T010000
END:STANDARD
END:VTIMEZONE
BEGIN:VEVENT
DTSTART;TZID=Europe/Helsinki:20251022T200000
DTEND;TZID=Europe/Helsinki:20251022T220000
DTSTAMP:20260423T135206
CREATED:20251009T093902Z
LAST-MODIFIED:20251009T094143Z
UID:4974-1761163200-1761170400@politistiko-ergastiri.org
SUMMARY:Προβολή ταινίας "REVOIR PARIS"
DESCRIPTION:[ENGLISH TEXT FOLLOWS] \nREVOIR PARIS\n(Αγγλικός τίτλος: Paris Memories)\nΓαλλία\, 2022\nΣκηνοθεσία: Alice Winocour\nΔιάρκεια: 105 λεπτά\nΕίδος: Μυθοπλασία • Δράμα\nΠρωταγωνιστούν: Virginie Efira\, Benoît Magimel\, Grégoire Colin\, Maya Sansa\, Amadou Mbow \nΠεριγραφή:\nΈνα φθινοπωρινό Σάββατο βράδυ\, η Mia παγιδεύεται σε μια τρομοκρατική επίθεση σε παρισινό μπιστρό. Τρεις μήνες αργότερα\, ανίκανη ακόμη να ξαναβρεί τον ρυθμό της ζωής της και έχοντας αποσπασματικές μόνο μνήμες από εκείνη τη νύχτα\, αποφασίζει να αναζητήσει τα χαμένα κομμάτια της μνήμης της\, για να βρει ξανά τον δρόμο προς την ευτυχία. \nΗ ΠΡΟΒΟΛΗ ΔΙΟΡΓΑΝΩΝΕΤΑΙ ΣΕ ΣΥΝΕΡΓΑΣΙΑ ΜΕ ΤΟ ΓΑΛΛΙΚΟ ΙΝΣΤΙΤΟΥΤΟ ΚΥΠΡΟΥ. \nΤΗΝ ΤΑΙΝΙΑ ΘΑ ΠΡΟΛΟΓΙΣΕΙ Ο ΣΚΗΝΟΘΕΤΗΣ ΛΟΓΓΙΝΟΣ ΠΑΝΑΓΗ \nΤΙΣ ‘ΚΙΝΗΜΑΤΟΓΡΑΦΙΚΕΣ ΤΕΤΑΡΤΕΣ’ ΣΤΗΡΙΖΕΙ ΤΟ ΤΜΗΜΑ ΣΥΓΧΡΟΝΟΥ ΠΟΛΙΤΙΣΜΟΥ ΤΟΥ ΥΦΥΠΟΥΡΓΕΙΟΥ ΠΟΛΙΤΙΣΜΟΥ. \nΕΙΣΟΔΟΣ ΕΛΕΥΘΕΡΗ – ΚΑΤΑΛΛΗΛΗ ΓΙΑ  ΑΤΟΜΑ ΑΝΩ ΤΩΝ 18 ΕΤΩΝ \n—– \nREVOIR PARIS\nEnglish Title: Paris Memories\nFrance\n2022\nDirector: Alice Winocour\n105’\nFiction• Drama\nStarring : Virginie Efira\, Benoît Magimel\, Grégoire Colin\, Maya Sansa\, Amadou Mbow \nDescription:\nOne Saturday evening in autumn\, Mia is caught in a terrorist attack on a Parisian bistro. Three months later\, still unable to pick her life back up\, and remembering only fragments of that night\, Mia decides to investigate her memories to find a way back to happiness. \nThe screening is organized in collaboration with the French Institute Cyprus. The film will be introduced by Cypriot director Longinos Panagi. \nThe program ‘Cinema Wednesdays’ is supported by the Deputy Ministry of Culture. \nFree Entrance\nSuitable for persons over 18 years old \n
URL:https://politistiko-ergastiri.org/index.php/event/revoir-paris/
LOCATION:Πολιτιστικό Εργαστήρι Αγίων Ομολογητών\, Αγχιάλου 1\, Λευκωσία\, 1080\, Cyprus
CATEGORIES:Εκδηλώσεις,Κινηματογράφος,Πολιτιστικό Εργαστήρι
ATTACH;FMTTYPE=image/jpeg:https://politistiko-ergastiri.org/wp-content/uploads/2025/10/Revoir-Paris-scaled.jpg
ORGANIZER;CN="%CE%A0%CE%BF%CE%BB%CE%B9%CF%84%CE%B9%CF%83%CF%84%CE%B9%CE%BA%CF%8C%20%20%CE%95%CF%81%CE%B3%CE%B1%CF%83%CF%84%CE%AE%CF%81%CE%B9%20%CE%91%CE%B3%CE%AF%CF%89%CE%BD%20%CE%9F%CE%BC%CE%BF%CE%BB%CE%BF%CE%B3%CE%B7%CF%84%CF%8E%CE%BD":MAILTO:info@politistiko-ergastiri.org
END:VEVENT
END:VCALENDAR