BEGIN:VCALENDAR
VERSION:2.0
PRODID:-//Politistiko Ergastiri Ayion Omoloyiton - ECPv4.9.14//NONSGML v1.0//EN
CALSCALE:GREGORIAN
METHOD:PUBLISH
X-WR-CALNAME:Politistiko Ergastiri Ayion Omoloyiton
X-ORIGINAL-URL:https://politistiko-ergastiri.org
X-WR-CALDESC:Politistiko Ergastiri Ayion Omoloyiton - Εκδηλώσεις
BEGIN:VTIMEZONE
TZID:Europe/Helsinki
BEGIN:DAYLIGHT
TZOFFSETFROM:+0200
TZOFFSETTO:+0300
TZNAME:EEST
DTSTART:20230326T010000
END:DAYLIGHT
BEGIN:STANDARD
TZOFFSETFROM:+0300
TZOFFSETTO:+0200
TZNAME:EET
DTSTART:20231029T010000
END:STANDARD
END:VTIMEZONE
BEGIN:VEVENT
DTSTART;TZID=Europe/Helsinki:20231203T113000
DTEND;TZID=Europe/Helsinki:20231203T114500
DTSTAMP:20260420T033321
CREATED:20231201T155237Z
LAST-MODIFIED:20231201T163332Z
UID:4678-1701603000-1701603900@politistiko-ergastiri.org
SUMMARY:18η Σύνοδος για την Διαφύλαξη της Άυλης Πολιτιστικής Κληρονομιάς - Παρουσία του Πολιτιστικού Εργαστηρίου
DESCRIPTION:Από τις 3-9/12/2023 πραγματοποιείται η 18η Σύνοδος της Διακρατικής Επιτροπής για την Διαφύλαξη της Άυλης Πολιτιστικής Κληρονομιάς της Unesco στο Κασάνε της Μποτσουάνα. \nΣτα πλαίσια της εμπλοκής του Πολιτιστικού Εργαστηρίου ως μέλος μέλος της επιτροπής των Μη κερδοσκοπικών οργανισμών που ενεργούν ως συμβουλευτικό σώμα της Επιτροπής της Unesco για την Άυλη Πολιτιστική Κληρονομιά\, από το 2012 συμμετέχει ενεργά στην προετοιμασία της συνόδου. Στην φετινή εναρκτήρια μέρα της συνόδου συμμετέχει και με μια παρουσίαση που αφορά μια από τις δράσεις του Πολιτιστικού Εργαστήρίου. \n“Ηχώ της Πόλης” – Άγιοι Ομολογητές \nΗ παρουσίαση αφορά στην επεξήγηση του σκεπτικού πίσω από την υλοποίηση της δράσης με γνώμονα την διαφύλαξη της Άυλης Πολιτιστικής Κληρονομιάς\, την μετάδοση των στοιχείων της αλλά και την ενεργή εμπλοκή της τοπικής κοινότητας\, όπως προτείνει και το άρθρο 11 της “Σύμβασης για τη Διαφύλαξη της Άυλης Πολιτιστικής Κληρονομιάς (2003). \nΗ παρουσίαση του Πολιτιστικού Εργαστηρίου θα πραγματοποιηθεί στις 11:30 (CET+1) και μπορείτε να το παρακολουθήσετε μέσω του συνδέσμου https://us02web.zoom.us/j/84569818054 \nΤο πλήρες πρόγραμμα της Συνόδου και οι σχετικοί συνδέσμοι: \nKASANE_AGENDA_ICH_NGO_FORUM_ACTIVITIES_[18COM_30 NOVEMBER_2023] \n
URL:https://politistiko-ergastiri.org/index.php/event/18comichgr/
CATEGORIES:Εκδηλώσεις,Πολιτιστικό Εργαστήρι,Συμβολή στην Άυλη Πολιτιστική Κληρονομιά
ATTACH;FMTTYPE=image/png:https://politistiko-ergastiri.org/wp-content/uploads/2023/12/logo-unesco.png
END:VEVENT
END:VCALENDAR