BEGIN:VCALENDAR
VERSION:2.0
PRODID:-//Politistiko Ergastiri Ayion Omoloyiton - ECPv4.9.14//NONSGML v1.0//EN
CALSCALE:GREGORIAN
METHOD:PUBLISH
X-WR-CALNAME:Politistiko Ergastiri Ayion Omoloyiton
X-ORIGINAL-URL:https://politistiko-ergastiri.org
X-WR-CALDESC:Politistiko Ergastiri Ayion Omoloyiton - Εκδηλώσεις
BEGIN:VTIMEZONE
TZID:Europe/Helsinki
BEGIN:DAYLIGHT
TZOFFSETFROM:+0200
TZOFFSETTO:+0300
TZNAME:EEST
DTSTART:20210328T010000
END:DAYLIGHT
BEGIN:STANDARD
TZOFFSETFROM:+0300
TZOFFSETTO:+0200
TZNAME:EET
DTSTART:20211031T010000
END:STANDARD
BEGIN:DAYLIGHT
TZOFFSETFROM:+0200
TZOFFSETTO:+0300
TZNAME:EEST
DTSTART:20220327T010000
END:DAYLIGHT
BEGIN:STANDARD
TZOFFSETFROM:+0300
TZOFFSETTO:+0200
TZNAME:EET
DTSTART:20221030T010000
END:STANDARD
END:VTIMEZONE
BEGIN:VEVENT
DTSTART;TZID=Europe/Helsinki:20210626T080000
DTEND;TZID=Europe/Helsinki:20220630T170000
DTSTAMP:20260423T144537
CREATED:20210901T043227Z
LAST-MODIFIED:20210905T154200Z
UID:2540-1624694400-1656608400@politistiko-ergastiri.org
SUMMARY:Ξεκινάμε !! - Εργαστήρια Παραδοσιακού Χορού για παιδιά και ενήλικες
DESCRIPTION: ΞΕΚΙΝΑΜΕ!!! \n \nΞεκινούν τα εργαστήρια παραδοσιακού χορού στο Πολιτιστικό Εργαστήρι Αγίων Ομολογητών. Εγγραφές και το πρώτο μάθημα  θα γίνονται τις μέρες και ώρες όπως αναφέρονται πιο κάτω. \n(Θα υπάρξει πρόνοια ώστε να τηρηθούν προτατευτικά μέτρα για αντιμετώπιση για την αντιμετώπιση της πανδημίας του κορονοϊού) \nΕργαστήρια Παραδοσιακού χορού \n28 Σεπτεμβρίου 2021 Τρίτη: 18:15-19:15 Ομάδες παιδιών – 6 μέχρι 8 χρονών Τρίτη 18:15-19:45 Ομάδες εφήβων – 10 μέχρι 18 χρονών \n15 Οκτωβρίου 2021 Παρασκευή 19:00-21:00 Ομάδα ενηλίκων 18 χρονών και άνω (Η ομάδα ανοίγει για το κοινό στις 15 Οκτωβρίου λόγω πραγματοποίησης χορευτικών παρατσάσεων τις προηγούμενες μέρες). \nΓια πληροφορίες παρακαλώ αποταθείτε στο τηλ. 22256782 ή στο ηλ. ταχυδρομείο: info@politistiko-eragstiri.org \nΟι συνδρομές για τη συμμετοχή στα εργαστήρια είναι €100 το τρίμηνο για παιδιά και ενήλικες.\nΓια συμμετοχή στις πιο πάνω δραστηριότητες δεύτερου ή τρίτου παιδιού της ίδιας οικογένειας ή παιδιά πολυτέκνων το ποσό είναι €80 το τρίμηνο ανά παιδί ανά τρίμηνο.\nΤα εργαστήρια λειτουργούν για τρία τρίμηνα. \n  \n
URL:https://politistiko-ergastiri.org/index.php/event/startingdancinglessons2020/
CATEGORIES:Εκδηλώσεις,Ευκαιρίες,Πολιτιστικό Εργαστήρι,Χορός
ATTACH;FMTTYPE=image/jpeg:https://politistiko-ergastiri.org/wp-content/uploads/2021/08/Χοροί-της-Κύπρου.jpeg
END:VEVENT
BEGIN:VEVENT
DTSTART;VALUE=DATE:20220223
DTEND;VALUE=DATE:20220424
DTSTAMP:20260423T144537
CREATED:20220131T123228Z
LAST-MODIFIED:20220210T133519Z
UID:3813-1645574400-1650758399@politistiko-ergastiri.org
SUMMARY:PRESENTING & CELEBRATING THE ESC-Program
DESCRIPTION:\nPresenting & Celebrating the ESC Programme\nONLINE SEMINAR\n\nSAVE THE DATE\nWednesday\, the 23rd of February 2022 (18:00- 20:00 GMT +2)  \nJoin us in this online seminar to present the European Solidarity Corps programme and our achievements as an organization\, under this programme.\nThe seminar will be facilitated by Eleonora Chrysanthi (Cyprus) and Maria Kusheela Maroni (Italy)\, the two participants of the ESC Traineeships & Jobs project “Managing Volunteering Projects (MVP)”\, who will present their experience and expertise gained and developed through their project. To that purpose\, the ESC Volunteering Partnership project “UNITY-iOS” will also be presented\, with guest speakers some of the volunteers and members of the local community involved in this project who will share their own experiences. \nZoom link to join: https://us06web.zoom.us/j/87030370084  \nOffered topics will be:\n\n \nIntroduction: \n\n\n\nA virtual walk & talk on the topic of the ESC Programme (Volunteering\, Traineeships & Jobs\, Solidarity projects) and presentation of the organization’s work. \n  \nPart 1: Presenting the MVP project (“Managing Volunteering Projects”) \nHow can you turn an experience into a lesson? Find out more of the experiences of both the MVP participants\, who work in European Project Management and their learning process during this project. \n  \nPart 2: Testimonials about the ESC Volunteering Partnership “UNITY-iOS” \nTestimonials from previous volunteers and members of the local community who have participated in our ESC volunteering activities. An open window on their experiences with the European Solidarity Corps. \n  \nPart 3: Space for Q&A and discussion \nSharing thoughts and answering questions. \n  \nPart 4: Conclusion  \nFinal conclusion. \n\n\nPlease click here to register! \n\n\n \nThe seminar is focused on sharing the experience\, expertise and skills of the participants of the ESC Jobs project\, MVP\, in the fields of project management and youth work\, with the general public\, as well as with interested parties\, such as volunteers\, ex and future volunteers\, project managers and coordinators\, youth workers\, educators\, facilitators and other interested parties. The activity is adding value to the aims and objectives of enhancing the expertise of persons involved in European programmes\, informing people interested in European programmes and the abovementioned fields\, disseminating the results of the MVP project\, and mostly\, creating opportunities for recognition of non-formal learning and job and/or volunteering opportunities.  \n\nLet’s be the Most Valuable Player!\n\n\n
URL:https://politistiko-ergastiri.org/index.php/event/presenting-celebrating-the-esc-program/
CATEGORIES:Online Event,Εκδηλώσεις,Ευκαιρίες,Ευρωπαϊκά Προγράμματα,Ευρωπαϊκά Προγράμματα Εθελοντισμού,Πολιτιστικό Εργαστήρι
END:VEVENT
END:VCALENDAR