BEGIN:VCALENDAR
VERSION:2.0
PRODID:-//Politistiko Ergastiri Ayion Omoloyiton - ECPv4.9.14//NONSGML v1.0//EN
CALSCALE:GREGORIAN
METHOD:PUBLISH
X-WR-CALNAME:Politistiko Ergastiri Ayion Omoloyiton
X-ORIGINAL-URL:https://politistiko-ergastiri.org
X-WR-CALDESC:Politistiko Ergastiri Ayion Omoloyiton - Εκδηλώσεις
BEGIN:VTIMEZONE
TZID:Europe/Helsinki
BEGIN:DAYLIGHT
TZOFFSETFROM:+0200
TZOFFSETTO:+0300
TZNAME:EEST
DTSTART:20210328T010000
END:DAYLIGHT
BEGIN:STANDARD
TZOFFSETFROM:+0300
TZOFFSETTO:+0200
TZNAME:EET
DTSTART:20211031T010000
END:STANDARD
BEGIN:DAYLIGHT
TZOFFSETFROM:+0200
TZOFFSETTO:+0300
TZNAME:EEST
DTSTART:20220327T010000
END:DAYLIGHT
BEGIN:STANDARD
TZOFFSETFROM:+0300
TZOFFSETTO:+0200
TZNAME:EET
DTSTART:20221030T010000
END:STANDARD
END:VTIMEZONE
BEGIN:VEVENT
DTSTART;TZID=Europe/Helsinki:20210626T080000
DTEND;TZID=Europe/Helsinki:20220630T170000
DTSTAMP:20260423T233732
CREATED:20210901T043227Z
LAST-MODIFIED:20210905T154200Z
UID:2540-1624694400-1656608400@politistiko-ergastiri.org
SUMMARY:Ξεκινάμε !! - Εργαστήρια Παραδοσιακού Χορού για παιδιά και ενήλικες
DESCRIPTION: ΞΕΚΙΝΑΜΕ!!! \n \nΞεκινούν τα εργαστήρια παραδοσιακού χορού στο Πολιτιστικό Εργαστήρι Αγίων Ομολογητών. Εγγραφές και το πρώτο μάθημα  θα γίνονται τις μέρες και ώρες όπως αναφέρονται πιο κάτω. \n(Θα υπάρξει πρόνοια ώστε να τηρηθούν προτατευτικά μέτρα για αντιμετώπιση για την αντιμετώπιση της πανδημίας του κορονοϊού) \nΕργαστήρια Παραδοσιακού χορού \n28 Σεπτεμβρίου 2021 Τρίτη: 18:15-19:15 Ομάδες παιδιών – 6 μέχρι 8 χρονών Τρίτη 18:15-19:45 Ομάδες εφήβων – 10 μέχρι 18 χρονών \n15 Οκτωβρίου 2021 Παρασκευή 19:00-21:00 Ομάδα ενηλίκων 18 χρονών και άνω (Η ομάδα ανοίγει για το κοινό στις 15 Οκτωβρίου λόγω πραγματοποίησης χορευτικών παρατσάσεων τις προηγούμενες μέρες). \nΓια πληροφορίες παρακαλώ αποταθείτε στο τηλ. 22256782 ή στο ηλ. ταχυδρομείο: info@politistiko-eragstiri.org \nΟι συνδρομές για τη συμμετοχή στα εργαστήρια είναι €100 το τρίμηνο για παιδιά και ενήλικες.\nΓια συμμετοχή στις πιο πάνω δραστηριότητες δεύτερου ή τρίτου παιδιού της ίδιας οικογένειας ή παιδιά πολυτέκνων το ποσό είναι €80 το τρίμηνο ανά παιδί ανά τρίμηνο.\nΤα εργαστήρια λειτουργούν για τρία τρίμηνα. \n  \n
URL:https://politistiko-ergastiri.org/index.php/event/startingdancinglessons2020/
CATEGORIES:Εκδηλώσεις,Ευκαιρίες,Πολιτιστικό Εργαστήρι,Χορός
ATTACH;FMTTYPE=image/jpeg:https://politistiko-ergastiri.org/wp-content/uploads/2021/08/Χοροί-της-Κύπρου.jpeg
END:VEVENT
BEGIN:VEVENT
DTSTART;TZID=Europe/Helsinki:20211009T110000
DTEND;TZID=Europe/Helsinki:20211009T140000
DTSTAMP:20260423T233732
CREATED:20210923T200238Z
LAST-MODIFIED:20210926T070737Z
UID:3589-1633777200-1633788000@politistiko-ergastiri.org
SUMMARY:Ημερίδα με θέμα την Κυπριακή Παράδοση
DESCRIPTION:Μια ημερίδα ξεχωριστή με διαλεκτούς ομιλητές – ερευνητές με θέμα την κυπριακή ενδυμασία\, τη μουσική της Κύπρου\, τον χορό της Κύπρου\, το λαϊκό κυπριακό παραμύθι\, την αρχιτεκτονική εντός των τειχών της πόλης. Αναλυτικά:\nΗ φορεσιά «Αμαλία» στην Κύπρο: παραδοσιακή\, αστική\, γιορτινή\, εθνική ενδυμασία\nΕυφροσύνη Ριζοπούλου Ηγουμενίδου\, Νόλη Μωϋσή\n“Μα εν ννεν κυπριακό όργανο το φκιολίν;”\, Μιχάλης Κουλουμής\n“Χορός της Κύπρου: Ζώσα παράδοση ή μουσειακό είδος;”\, Παναγιώτης Θεοδώρου\n“Λευκωσία: Η παραδοσιακή αρχιτεκτονική εντός των τειχών”\, Χάρης Αιμιλιανίδης\n“Μια φορά τζαι έναν τζαιρόν\, αναφορά στα λαΪκά παραμύθια της Κύπρου\, Κυριακή Χ’Γεωργίου Τσαγγάρη.\n“Στης Ευθαλίας το Αρχοντικό” παρουσίαση εκπαιδευτικού προγράμματος\, Χριστιάνα Παπαδοπούλου\n\nΓια κρατήσεις: 99326229\nΘα δοθεί δίπλωμα συμμετοχής\nΗ ημερίδα θα ακολουθηθεί από την παράσταση\nhttps://www.facebook.com/events/1702721923265173\n\n\n\n\nΗ Ημερίδα εμπίπτει στα πλαίσια του ρόλου του Πολιτιστικού Εργαστηρίου ως μέλος της Eπιτροπής των Μη κερδοσκοπικών Oργανισμών που ενεργούν ως συμβουλευτικό σώμα της Επιτροπής Της Unesco για την Άυλη Πολιτιστική Κληρονομιά\, (2012). http://www.ichngoforum.org/politistiko-ergastiri-ayion-omoloyiton/\n\n\n
URL:https://politistiko-ergastiri.org/index.php/event/imeridaparadositiskyprou/
LOCATION:Θεολογική Σχολή Εκκλησίας της Κύπρου\, Isokratous\, Nicosia\, 1016\, Cyprus
CATEGORIES:Εκδηλώσεις,Πολιτιστικό Εργαστήρι,Χορός
ATTACH;FMTTYPE=image/jpeg:https://politistiko-ergastiri.org/wp-content/uploads/2021/09/Ημερίδα-Παράδοση-Μετάδοση-sm.jpg
ORGANIZER;CN="%CE%A0%CE%BF%CE%BB%CE%B9%CF%84%CE%B9%CF%83%CF%84%CE%B9%CE%BA%CF%8C%20%20%CE%95%CF%81%CE%B3%CE%B1%CF%83%CF%84%CE%AE%CF%81%CE%B9%20%CE%91%CE%B3%CE%AF%CF%89%CE%BD%20%CE%9F%CE%BC%CE%BF%CE%BB%CE%BF%CE%B3%CE%B7%CF%84%CF%8E%CE%BD":MAILTO:info@politistiko-ergastiri.org
END:VEVENT
BEGIN:VEVENT
DTSTART;TZID=Europe/Helsinki:20211009T193000
DTEND;TZID=Europe/Helsinki:20211009T213000
DTSTAMP:20260423T233732
CREATED:20210923T063142Z
LAST-MODIFIED:20210926T182317Z
UID:3585-1633807800-1633815000@politistiko-ergastiri.org
SUMMARY:"Παράδοση-Μετάδοση"\, μουσικοχορευτική παράσταση
DESCRIPTION:\nΜε νήμα ένα παραμύθι που ξετυλίγεται\, η μουσική και ο χορός της Κύπρου αναδεικνύονται παρουσιάζοντας ταυτόχρονα τις αλληλεπιδράσεις με τις γύρω περιοχές\, Μ. Ασία\, Ρόδο\, Κρήτη\, νησιά του Αιγαίου\, Λέσβο.\n\nΜε τους εξαίρετους μουσικούς: Μιχάλης Κουλουμή\, Πέτρο Κουλουμή\, Έλενα Ξυδά\, Μανούσο Κλαπάκη και Emanuele Fillela.\nΑφήγηση: Ελενίτσα Γεωργίου\n\nΜε τη συμμετοχή της χορωδίας και των χορευτών/τριων του Πολιτιστικού Εργαστηρίου Αγίων Ομολογητών.\n\n\nΗ παράσταση θα ακολουθήσει την Ημερίδα για την Παράδοση Μετάδοση https://www.facebook.com/events/3061495987427916\n\n\n\nΕίσοδος 5 ευρώ με χρήση safe pass\nΓια κρατήσεις: 22256782\, 99326229\n\n\n\nΗ παράσταση εμπίπτει στα πλαίσια του ρόλου του Πολιτιστικού Εργαστηρίου ως μέλος της Eπιτροπής των Μη κερδοσκοπικών Oργανισμών που ενεργούν ως συμβουλευτικό σώμα της Επιτροπής Της Unesco για την Άυλη Πολιτιστική Κληρονομιά\, (2012). http://www.ichngoforum.org/politistiko-ergastiri-ayion…/\n\n
URL:https://politistiko-ergastiri.org/index.php/event/paradosi_metadosi/
LOCATION:Θεολογική Σχολή Εκκλησίας της Κύπρου\, Isokratous\, Nicosia\, 1016\, Cyprus
CATEGORIES:Εκδηλώσεις,Πολιτιστικό Εργαστήρι,Χορός
ATTACH;FMTTYPE=image/jpeg:https://politistiko-ergastiri.org/wp-content/uploads/2021/09/Παράδοση-Μετάδοση-παράστασηsm.jpg
ORGANIZER;CN="%CE%A0%CE%BF%CE%BB%CE%B9%CF%84%CE%B9%CF%83%CF%84%CE%B9%CE%BA%CF%8C%20%20%CE%95%CF%81%CE%B3%CE%B1%CF%83%CF%84%CE%AE%CF%81%CE%B9%20%CE%91%CE%B3%CE%AF%CF%89%CE%BD%20%CE%9F%CE%BC%CE%BF%CE%BB%CE%BF%CE%B3%CE%B7%CF%84%CF%8E%CE%BD":MAILTO:info@politistiko-ergastiri.org
END:VEVENT
END:VCALENDAR