BEGIN:VCALENDAR
VERSION:2.0
PRODID:-//Politistiko Ergastiri Ayion Omoloyiton - ECPv4.9.14//NONSGML v1.0//EN
CALSCALE:GREGORIAN
METHOD:PUBLISH
X-WR-CALNAME:Politistiko Ergastiri Ayion Omoloyiton
X-ORIGINAL-URL:https://politistiko-ergastiri.org
X-WR-CALDESC:Politistiko Ergastiri Ayion Omoloyiton - Εκδηλώσεις
BEGIN:VTIMEZONE
TZID:Europe/Helsinki
BEGIN:DAYLIGHT
TZOFFSETFROM:+0200
TZOFFSETTO:+0300
TZNAME:EEST
DTSTART:20200329T010000
END:DAYLIGHT
BEGIN:STANDARD
TZOFFSETFROM:+0300
TZOFFSETTO:+0200
TZNAME:EET
DTSTART:20201025T010000
END:STANDARD
END:VTIMEZONE
BEGIN:VEVENT
DTSTART;TZID=Europe/Helsinki:20201217T190000
DTEND;TZID=Europe/Helsinki:20201220T220000
DTSTAMP:20260424T135227
CREATED:20201211T102725Z
LAST-MODIFIED:20201217T153021Z
UID:2797-1608231600-1608501600@politistiko-ergastiri.org
SUMMARY:"'Ολοι οι ρεμπέτες του ντουνιά" - Online προβολή ντοκιμαντέρ
DESCRIPTION:[English text follows] \nΜέχρι τις 20 Δεκεμβρίου μπορείτε να παρακολουθείτε δωρεάν διαδικτυακά την ταινία στον σύνδεσμο\nhttps://vimeo.com/tetraktysfilms/review/489382824/94efb1fe0f \n\nΤην Κυριακή 20 Δεκεμβρίου\, στις 5μμ θα μπορείτε επίσης να συμμετάσχετε μέσω Zoom σε μια διαδικτυακή συζήτηση με τον σκηνοθέτη της ταινίας Δημήτρη Τράγκαλο\, όπου το κοινό θα μπορεί να υποβάλει τις ερωτήσεις του για την ταινία. Το λινκ για την διακδικτυακή συζήτηση: https://zoom.us/j/96385901013. Συμμετοχή ελεύθερη. \nΟΛΟΙ ΟΙ ΡΕΜΠΕΤΕΣ ΤΟΥ ΝΤΟΥΝΙΑ\nΣύνοψη\nΑκολουθώντας την ορχήστρα “The Famous SOAS Rebetiko Band” στην Κωνσταν/πολη\, τον Πειραιά\, την Ύδρα και το Λονδίνο\, ο σκηνοθέτης καταγράφει τις εκδηλώσεις της μπάντας\, όπως συναυλίες\, τη διοργάνωση συνεδρίου για το ρεμπέτικο τραγούδι στην Ύδρα\, με ομιλίες\, μουσικές βραδιές και θέατρο σκιών. Οι μουσικοί της ορχήστρας\, αν και από διαφορετικές χώρες\, δείχνουν την ίδια αγάπη για το ρεμπέτικο τραγούδι και με τον ίδιο ενθουσιασμό καταφέρνουν να ενώνουν το κοινό που συμμετέχει σε κάθε τους εκδήλωση. \nΔιάρκεια: 84 λεπτά\nΧώρα: Ελλάδα\nΕίδος: Εθνογραφικό\nΓλώσσα: Ελληνικά\nΥπότιτλοι: Αγγλικοί \nΣκηνοθέτης: Δημήτρης Τράγκαλος \nΠροβολές και Βραβεία:\nΕπίσημη συμμετοχή στο Διεθνές Φεστιβάλ ψηφιακού Κινηματογράφου Αθήνας 2020 (κατηγορία μεγάλου μήκους ντοκιμαντέρ) \nΣυμμετοχή στο Φεστιβάλ 2020 LONDON GREEK FILM FESTIVAL (Semi-finalist) \nΒιογραφικό Σκηνοθέτη:\nΟ Δημήτρης Τράγγαλος γεννήθηκε το 1951\, στην Ελάτεια Φθιώτιδας. Σπούδασε μαθηματικά\, ηλεκτρονικά και σκηνοθεσία κινηματογράφου. Από το 1985 εργάστηκε ως μοντέρ στην κινηματογραφία της Ε.Ρ.Τ. Συνεργάστηκε με το Ελληνικό Κέντρο Κινηματογράφου και την Εκπαιδευτική Τηλεόραση. Είναι Μέλος της Εταιρίας Ελλήνων Σκηνοθετών. Δίδαξε μοντάζ στο Τμήμα Κινηματογράφου του Αριστοτελείου Πανεπιστημίου Θεσσαλονίκης και μοντάζ\, κινούμενο σχέδιο και φωτογραφία στις κινηματογραφικές σχολές της Αθήνας. Στον κινηματογράφο\, ως σκηνοθέτης και παραγωγός δημιούργησε ταινίες σε όλα τα κινηματογραφικά είδη\, όπως κινούμενο σχέδιο\, μυθοπλασία και ντοκιμαντέρ. \n————————— \nALL THE REMBETS OF THE WORLD \nSynopsis\nFollowing the band “The Famous SOAS Rebetiko Band” in Constantinople\, Piraeus\, Hydra and London\, the director records the band’s events\, such as concerts\, a conference for rebetiko song in Hydra\, with lectures\, musical nights and shadows theatre. The orchestral musicians\, although from different countries\, show the same love for rebetiko song and with the same enthusiasm\, they manage to unite the audience at each event. \nRuntime: 84 minutes\nCountry of Origin: Greece\nGenre: Ethnographic\nLanguage: Greek\nSubtitles: English \nDirector: Dimitris Trangalos \nScreenings & Awards:\nOfficial participation in the Athens International Digital Film Festival 2020 (feature documentary category)\nParticipation in the 2020 LONDON GREEK FILM FESTIVAL (Semi-finalist) \nDirector’s Biography\nDimitris Trangalos was born on 1951\, in Elatia of Fthiotis county. He has studied mathematics\, electronics and film directory. Since 1985\, he has worked as film editor in the Greek Television. He has collaborated with the Greek Film Centre and the Educational Television. He is member of the Greek Directors Guild. He has taught film editing in the Aristotle University of Thessaloniki and film editing\, animation and photography in cinema schools. He has directed many films in each film category. \n
URL:https://politistiko-ergastiri.org/index.php/event/rembetes-online/
LOCATION:Online Event\, Cyprus
CATEGORIES:Εκδηλώσεις,Κινηματογράφος,Πολιτιστικό Εργαστήρι
ATTACH;FMTTYPE=image/jpeg:https://politistiko-ergastiri.org/wp-content/uploads/2020/12/Sequence-02.00_02_24_11.Still041.jpg
ORGANIZER;CN="%CE%A0%CE%BF%CE%BB%CE%B9%CF%84%CE%B9%CF%83%CF%84%CE%B9%CE%BA%CF%8C%20%20%CE%95%CF%81%CE%B3%CE%B1%CF%83%CF%84%CE%AE%CF%81%CE%B9%20%CE%91%CE%B3%CE%AF%CF%89%CE%BD%20%CE%9F%CE%BC%CE%BF%CE%BB%CE%BF%CE%B3%CE%B7%CF%84%CF%8E%CE%BD":MAILTO:info@politistiko-ergastiri.org
END:VEVENT
END:VCALENDAR