BEGIN:VCALENDAR
VERSION:2.0
PRODID:-//Politistiko Ergastiri Ayion Omoloyiton - ECPv4.9.14//NONSGML v1.0//EN
CALSCALE:GREGORIAN
METHOD:PUBLISH
X-WR-CALNAME:Politistiko Ergastiri Ayion Omoloyiton
X-ORIGINAL-URL:https://politistiko-ergastiri.org
X-WR-CALDESC:Politistiko Ergastiri Ayion Omoloyiton - Εκδηλώσεις
BEGIN:VTIMEZONE
TZID:Europe/Helsinki
BEGIN:DAYLIGHT
TZOFFSETFROM:+0200
TZOFFSETTO:+0300
TZNAME:EEST
DTSTART:20210328T010000
END:DAYLIGHT
BEGIN:STANDARD
TZOFFSETFROM:+0300
TZOFFSETTO:+0200
TZNAME:EET
DTSTART:20211031T010000
END:STANDARD
END:VTIMEZONE
BEGIN:VEVENT
DTSTART;VALUE=DATE:20210309
DTEND;VALUE=DATE:20210310
DTSTAMP:20260424T182731
CREATED:20210224T163803Z
LAST-MODIFIED:20210308T180754Z
UID:3008-1615248000-1615334399@politistiko-ergastiri.org
SUMMARY:VOLU.M.E ESVP  - ONLINE
DESCRIPTION:\n\nVolunteer Management Enhanced in European Solidarity Volunteering Projects\n(VOLU.M.E E.S.V.P.)\nONLINE EVENT\nSAVE THE DATE\nTuesday\, the 9th of March 2021 (15:00-17:30 CET)  \n“Join us in this online\, open event to explore Volunteer Management Tools for volunteering projects under the ESC programme. \nMore information regarding the workshops taking place during the event and relevant links shall be announced soon.”  \nOffered topics and  workshops for the day are:\n\n\n\nWorkshop 1: 1\,2\,3 Steps for Long-Term Cooperation \nDescription: A virtual walk & talk on the topic of international cooperation among NGOs involved in ESC partnerships. Get your tools ready\, we will be digging into the toolbox we have created. \nWho: Madalina (Romania)\, Ben (France) \nWorkshop 2: Seedling water tree – Playful Learning Processing Tool \nDescription: How can you turn an experience into a lesson? Find out more from The Learning Process working group as they present the playful tool they created.The session will be most useful for volunteers and mentors (/others in the hosting organization\, responsible for supporting the learning process of the volunteer). \nLet’s roleplay it together! \nWho: Oksana (Ukraine)\, Bianca (Romania)\, Ilaria (Italy)\, Diana (Romania) \nWorkshop 3: Holistic Evaluation. How? \nDescription: The main goal of the workshop is to provide an evaluation tool to people that work in volunteerism (mentors\, tutors\, volunteers etc.)\, so they can understand in a holistic way how the volunteers experience their service in European Solidarity Corps. \nWho: Kelly (Greece)\, Kiki (Greece)\,  Berka (Sweden) \nWorkshop 4: Meaning of Supervision \nDescription: Sharing good practices and exchanging ideas on supervision of volunteers \nWho: Magdalena (Poland)\, Manuel (Italy)\, Maria (Italy/Cyprus)\, Lorenzo (Italy) \nWorkshop 5: MENTORING – How to Choose a Great Mentor for Your Volunteer? \nDescription: We are preparing a questionnaire for future mentors which would help the organizations and future mentors understand what it means to be a mentor\, check if she/he is fit for the job and make matching pairs of volunteer and mentor. \nWho: Kaja (Slovenia)\, Sophia (France) \nWorkshop 6: Guide to a Volunteer’s TASK MANAGEMENT – an online booklet \nDescription: During this workshop we will present and share with the participants an online booklet regarding the process and steps of a volunteer’s task management (preparation\, assignment\, monitoring\, motivation etc)\, including some tips/suggestions and online tools (e.g. questionnaires). \nWho: Eleonora (Cyprus)\, Masha (Slovenia) \nWorkshop 7: Local Impact – ESC Volunteers at Schools in Cyprus \nDescription: discovering the role of schools in boosting local impact in ESC volunteering: a working example \nWho: Skevi (Cyprus)\, Stavroula (Cyprus)\, Stella (Cyprus)\, Francesco (Italy/Cyprus) \n\n\nRegister\n\n\n \nThis event is the result of the VOLU.M.E ESVP Project (Volunteer Management Enhanced in European Solidarity Volunteering Projects) that started in 2019 with a training course in Weimar\, Germany\, and followed up by an online seminar in 2021\, with the participation of 30 people from 8 countries (Cyprus\, Germany\, Romania\, Italy\, Poland\, Slovenia\, Sweden\, France). The objective was to bring people who are involved in youth work\, project management\, and volunteering projects to exchange good practices\, share their work and ideas and create practical tools regarding volunteer management. \n\nTurn UP THE VOLU.M.E.\n\n\n  \n
URL:https://politistiko-ergastiri.org/index.php/event/volunteer-management-enhanced-in-european-solidarity-volunteering-projects-volu-m-e-esvp-online-event/
CATEGORIES:Εκδηλώσεις,Ευκαιρίες,Ευρωπαϊκά Προγράμματα,Ευρωπαϊκά Προγράμματα Εκπαίδευσης,Κινηματογράφος
ATTACH;FMTTYPE=image/jpeg:https://politistiko-ergastiri.org/wp-content/uploads/2021/02/Volumeonline.jpg
ORGANIZER;CN="%CE%A0%CE%BF%CE%BB%CE%B9%CF%84%CE%B9%CF%83%CF%84%CE%B9%CE%BA%CF%8C%20%20%CE%95%CF%81%CE%B3%CE%B1%CF%83%CF%84%CE%AE%CF%81%CE%B9%20%CE%91%CE%B3%CE%AF%CF%89%CE%BD%20%CE%9F%CE%BC%CE%BF%CE%BB%CE%BF%CE%B3%CE%B7%CF%84%CF%8E%CE%BD":MAILTO:info@politistiko-ergastiri.org
END:VEVENT
END:VCALENDAR