BEGIN:VCALENDAR
VERSION:2.0
PRODID:-//Politistiko Ergastiri Ayion Omoloyiton - ECPv4.9.14//NONSGML v1.0//EN
CALSCALE:GREGORIAN
METHOD:PUBLISH
X-WR-CALNAME:Politistiko Ergastiri Ayion Omoloyiton
X-ORIGINAL-URL:https://politistiko-ergastiri.org
X-WR-CALDESC:Politistiko Ergastiri Ayion Omoloyiton - Εκδηλώσεις
BEGIN:VTIMEZONE
TZID:Europe/Helsinki
BEGIN:DAYLIGHT
TZOFFSETFROM:+0200
TZOFFSETTO:+0300
TZNAME:EEST
DTSTART:20200329T010000
END:DAYLIGHT
BEGIN:STANDARD
TZOFFSETFROM:+0300
TZOFFSETTO:+0200
TZNAME:EET
DTSTART:20201025T010000
END:STANDARD
END:VTIMEZONE
BEGIN:VEVENT
DTSTART;TZID=Europe/Helsinki:20200610T201500
DTEND;TZID=Europe/Helsinki:20200610T213000
DTSTAMP:20260423T225755
CREATED:20200601T183014Z
LAST-MODIFIED:20200601T183014Z
UID:2427-1591820100-1591824600@politistiko-ergastiri.org
SUMMARY:Προβολή ντοκιμαντέρ "There will be Water"
DESCRIPTION:Προβολή ντοκιμαντέρ: “THERE WILL BE WATER” \n[Υπαίθρια προβολή στην αυλή του Αρχοντικού] \n  \nΣκηνoθεσία: Per Liebeck \nΠαραγωγός: Ulrik Gutkin \nProduced by Copenhagen Film Company for DR in ass. with NRK \nΔιάρκεια: 60’ \nΈτος παραγωγής: 2015 \nΓλώσσα: Αγγλική\, υπότιτλοι αγγλικοί \nΟ μηχανικός Bill Watts έχει μια αποστολή: να δημιουργήσει μια υποδομή αλμυρού νερού στην έρημο και έτσι να δημιουργήσει θερμοκήπια στο πιο ξηρό μέρος του πλανήτη\, ούτως ώστε να μπορεί να παρέχει νερό\, τρόφιμα\, ενέργεια και θέσεις εργασίας σε μια απελπισμένη περιοχή του κόσμου. \nΗ ιδέα είναι απλή: να έρθει θαλασσινό νερό στην έρημο\, να εξατμιστεί με τον ήλιο και έτσι να δημιουργηθεί φρέσκο ​​νερό\, φαγητό και ενέργεια. Αλλά η θερμοκρασία είναι 50 βαθμοί Κελσίου και φαίνεται ότι κάθε σταγόνα γλυκού νερού απαιτεί μια σταγόνα ιδρώτα. \nΤο προσβάσιμο πόσιμο νερό εξαφανίζεται γρήγορα. Η παγκόσμια ζήτηση νερού αυξάνεται\, ενώ τα διαθέσιμα επίπεδα γλυκού νερού στον κόσμο πέφτουν με ανησυχητικά ποσοστά. Περισσότεροι από 1\,5 δισεκατομμύρια άνθρωποι ζουν σε περιοχές με έντονη πίεση. Και ενώ η Μέση Ανατολή στεγνώνει\, η έλλειψη νερού προκαλεί σοβαρές πολιτικές και περιφερειακές εντάσεις. Πολλοί πιστεύουν ότι ο επόμενος πόλεμος στη Μέση Ανατολή θα είναι για το νερό. \nΗ προβολή είναι στα πλαίσια της νέας συνεργασίας του Πολιτιστικού Εργαστηρίου Αγίων Ομολογητών και του The Why Foundation στη Δανία. Είναι μέρος της σειράς εκδηλώσεών μας «Κινηματογραφικές Τετάρτες». Το 2020\, εστιάζουμε στα Κινηματογραφικά ταξίδια σε όλο τον κόσμο. \nΤο Ίδρυμα Why είναι ένας ανεξάρτητος δανικός μη κερδοσκοπικός οργανισμός που τιμήθηκε με πολλά βραβεία και  που παράγει και διανέμει ντοκιμαντέρ για σημαντικά κοινωνικά και περιβαλλοντικά ζητήματα. Το THE WHY έχει εκπονήσει από το 2004 διάφορες εκστρατείες για τα μέσα μαζικής ενημέρωσης που επικεντρώνονται στα ανθρώπινα δικαιώματα και τα κρίσιμα κοινωνικά ζητήματα. Το Why έχει φτάσει σε περισσότερες από 191 χώρες μέσω προβολών και περισσοτέρων από 70 τηλεοπτικών σταθμών\, μεταξύ των οποίων το BBC και το BBC World News. \nΕΛΕΥΘΕΡΗ ΕΙΣΟΔΟΣ – ΛΟΓΩΝ ΤΩΝ ΥΓΕΙΟΝΟΜΙΚΩΝ ΜΕΤΡΩΝ ΟΙ ΚΡΑΤΗΣΕΙΣ ΕΙΝΑΙ ΑΠΑΡΑΙΤΗΤΕΣ \nΚατάλληλο για άτομα άνω των 18 ετών \nΠληροφορίες και κρατήσεις στο τηλ. 99435754 \n  \n///////////////// \n  \nThere Will Be Water \n[The screening will be held at the yard of the venue] \nEngineer Bill Watts has a quest; to create a saltwater infrastructure in the desert and make greenhouses in the driest part of the planet\, thus being able to supply fresh water\, food\, energy and jobs to a region desperate for all new working solutions. \nThe idea is simple – bring saltwater into the desert – evaporate it by means of the sun and create fresh water\, food and energy in desert. But it is 50 degrees in the sun and it seems that every drop of fresh water requires a drop of sweat. \nAccessible fresh water around is rapidly disappearing. The global demand for water is growing while at the same time the world’s available freshwater levels are dropping at alarming rates. More than a 1.5 billion people live in water stressed areas. And\, the Middle East is drying up – water scarcity is causing severe political and regional tensions – some even think that the next war in the Middle East will be a water war. \nDirector Per Liebeck \nProducer Ulrik Gutkin \nProduced by Copenhagen Film Company for DR in ass. with NRK \nDuration: One Hour \nYear of Production 2015 \nLanguage: English \nSubtitles: English \n  \nDUE TO THE COVID-19 MEASURES\, RESERVATIONS ARE NECESSARY ON TEL.99435754 \n  \n  \n  \n
URL:https://politistiko-ergastiri.org/index.php/event/there-will-be-water/
LOCATION:Πολιτιστικό Εργαστήρι Αγίων Ομολογητών\, Αγχιάλου 1\, Λευκωσία\, 1080\, Cyprus
CATEGORIES:Κινηματογράφος
ATTACH;FMTTYPE=image/jpeg:https://politistiko-ergastiri.org/wp-content/uploads/2020/06/TWBW_Bill_Watts-desert.jpg
ORGANIZER;CN="%CE%A0%CE%BF%CE%BB%CE%B9%CF%84%CE%B9%CF%83%CF%84%CE%B9%CE%BA%CF%8C%20%20%CE%95%CF%81%CE%B3%CE%B1%CF%83%CF%84%CE%AE%CF%81%CE%B9%20%CE%91%CE%B3%CE%AF%CF%89%CE%BD%20%CE%9F%CE%BC%CE%BF%CE%BB%CE%BF%CE%B3%CE%B7%CF%84%CF%8E%CE%BD":MAILTO:info@politistiko-ergastiri.org
END:VEVENT
END:VCALENDAR