BEGIN:VCALENDAR
VERSION:2.0
PRODID:-//Politistiko Ergastiri Ayion Omoloyiton - ECPv4.9.14//NONSGML v1.0//EN
CALSCALE:GREGORIAN
METHOD:PUBLISH
X-WR-CALNAME:Politistiko Ergastiri Ayion Omoloyiton
X-ORIGINAL-URL:https://politistiko-ergastiri.org
X-WR-CALDESC:Politistiko Ergastiri Ayion Omoloyiton - Εκδηλώσεις
BEGIN:VTIMEZONE
TZID:Europe/Helsinki
BEGIN:DAYLIGHT
TZOFFSETFROM:+0200
TZOFFSETTO:+0300
TZNAME:EEST
DTSTART:20220327T010000
END:DAYLIGHT
BEGIN:STANDARD
TZOFFSETFROM:+0300
TZOFFSETTO:+0200
TZNAME:EET
DTSTART:20221030T010000
END:STANDARD
END:VTIMEZONE
BEGIN:VEVENT
DTSTART;TZID=Europe/Helsinki:20220608T200000
DTEND;TZID=Europe/Helsinki:20220608T220000
DTSTAMP:20260421T051520
CREATED:20220528T084943Z
LAST-MODIFIED:20220528T085636Z
UID:4076-1654718400-1654725600@politistiko-ergastiri.org
SUMMARY:Προβολή ταινίας: The 100 Year-Old Man Who Climbed Out the Window and Disappeared
DESCRIPTION:[ENGLISH TEXT FOLLOWS] \n  \nThe 100 Year-Old Man Who Climbed Out the Window and Disappeared \nΧώρα: Σουηδία \nΈτος: 2013 \nΕίδος: Περιπέτεια / κωμωδία \nΔιάρκεια: 114′ \n  \nΑφού έζησε μια μακρά και πολύχρωμη ζωή\, ο Allan Karlsson βρίσκεται κολλημένος σε ένα γηροκομείο. Στα 100α γενέθλιά του\, πετάει από ένα παράθυρο και ξεκινά ένα απροσδόκητο ταξίδι. \nH ταινία είναι βασισμένη στο ομώνυμο βιβλίο του Jonas Jonasson \n  \nΣκηνοθεσία: Felix Herngren \nΣενάριο: Felix Herngren\, Hans Ingemansson\, Jonas Jonasson \nΠρωταγωνιστούν: Robert Gustafsson\, Iwar Wiklander\, David Wiberg \n  \nΓλώσσα: Σουηδικά \nΥπότιτλοι: Αγγλικοί \n  \nΤο Πολιτιστικό Εργαστήρι Αγίων Ομολογητών με τη στήριξη των Πολιτιστικών Υπηρεσιών του Υπουργείου Παιδείας\, Πολιτισμού\, Αθλητισμού και Νεολαίας και σε συνεργασία με την Πρεσβεία της Σουηδίας στην Κύπρο\, παρουσιάζει δύο σύγχρονες ταινίες βασισμένες σε βιβλία. Οι προβολές είναι στα πλαίσια του προγράμματος “Κινηματογραφικές Τετάρτες 2022”. \n– Τετάρτη 1η Ιουνίου: Britt-Marie Was Here \n– Τετάρτη 8 Ιουνίου: The 100-Year-Old Man Who Climbed Out the Window and Disappeared \n  \nΧώρος: Πολιτιστικό Εργαστήρι Αγίων Ομολογητών \nΑρχοντικό Ιεροδιακόνου \nΑγχιάλου 1\, 1080 Λευκωσία \n  \nΟι προβολές αρχίζουν στις 8μμ \nΕίσοδος ελεύθερη \n  \nΚατάλληλη για άτομα άνω των 18 ετών \nΠληροφορίες και κρατήσεις στο τηλ. 22256782 \n\nFILM SCREENING: The 100 Year-Old Man Who Climbed Out the Window and Disappeared (2013) \nComedy/Drama \nCountry: Sweden \nYear: 2013 \nDuration: 114′ \nIn Swedish with English Subtitles \n  \nDirector: Felix Herngren \nWriter: Felix Herngren\, Hans Ingemansson\, Jonas Jonasson \nStarring: Robert Gustafsson\, Iwar Wiklander\, David Wiberg \n  \nSUMMARY \nAfter living a long and colorful life\, Allan Karlsson finds himself stuck in a nursing home. On his 100th birthday\, he leaps out a window and begins an unexpected journey. \nThe film is based on the book by Jonas Jonasson of the same name. \n  \nThe screening is organized by the Cultural Workshop Agion Omologiton\, in collaboration with the Embassy of Sweden in Cyprus\, and with the support of the Cultural Services of the Ministry of Education\, Culture\, Sport and Youth. It is part of the ‘Cinema Wednesdays 2022’ project.The following films will be screened: \n– June 1: Britt-Marie Was Here \n– June 8: The 100-Year-Old Man Who Climbed Out the Window and Disappeared \n  \nFree Entrance – suitable for persons over 18 \nInfo: Tel. 22256782 \n
URL:https://politistiko-ergastiri.org/index.php/event/the-100-year-old-man/
LOCATION:Πολιτιστικό Εργαστήρι Αγίων Ομολογητών\, Αγχιάλου 1\, Λευκωσία\, 1080\, Cyprus
CATEGORIES:Εκδηλώσεις,Κινηματογράφος,Πολιτιστικό Εργαστήρι
ATTACH;FMTTYPE=image/jpeg:https://politistiko-ergastiri.org/wp-content/uploads/2022/05/100yearoldman_crop.jpg
END:VEVENT
END:VCALENDAR