BEGIN:VCALENDAR
VERSION:2.0
PRODID:-//Politistiko Ergastiri Ayion Omoloyiton - ECPv4.9.14//NONSGML v1.0//EN
CALSCALE:GREGORIAN
METHOD:PUBLISH
X-WR-CALNAME:Politistiko Ergastiri Ayion Omoloyiton
X-ORIGINAL-URL:https://politistiko-ergastiri.org
X-WR-CALDESC:Politistiko Ergastiri Ayion Omoloyiton - Εκδηλώσεις
BEGIN:VTIMEZONE
TZID:Europe/Helsinki
BEGIN:DAYLIGHT
TZOFFSETFROM:+0200
TZOFFSETTO:+0300
TZNAME:EEST
DTSTART:20190331T010000
END:DAYLIGHT
BEGIN:STANDARD
TZOFFSETFROM:+0300
TZOFFSETTO:+0200
TZNAME:EET
DTSTART:20191027T010000
END:STANDARD
END:VTIMEZONE
BEGIN:VEVENT
DTSTART;TZID=Europe/Helsinki:20191030T220000
DTEND;TZID=Europe/Helsinki:20191031T000000
DTSTAMP:20260423T172003
CREATED:20190928T154827Z
LAST-MODIFIED:20191108T055731Z
UID:1808-1572472800-1572480000@politistiko-ergastiri.org
SUMMARY:Προβολή:  Beyond Dreams
DESCRIPTION:Τίτλος: Πέρα από τα Όνειρα  \nΣκηνοθεσία: Rojda Sekersöz \nΠρωταγωνιστούν: Evin Ahmad\, Gizem Erdogan\, Malin Persson\, Sergen Tesfai\, Ella Ahman \nΈτος παραγωγής: 2017 \nΔιάρκεια: 92 λεπτά \nΧώρα: Σουηδία \nΓλώσσα: Σουηδικά \nΥπότιτλοι: Αγγλικοί \nΠλοκή: \nΚαθώς εκτελεί την ποινή φυλάκισης της για μια αποτυχημένη ληστεία\, η Μίρχα έχει μείνει μακριά από την συμμορία και του κανόνες της. Όταν επιστρέφει σπίτι έρχεται αντιμέτωπη με νέες συνθήκες: μαθαίνει με βάναυσο τρόπο πως η μητέρα της είναι βαριά άρρωστη και απαιτητική. Η Μίρχα πρέπει να βρει δουλειά αλλιώς θα την πετάξουν έξω. Σε μια προσπάθεια της να χειριστεί την κατάσταση\, ξεκινά να ζει μια διπλή ζωή μεταξύ της οικογένειας και της συμμορίας της. \nΟι προβολές είναι στα πλαίσια του προγράμματος του Πολιτιστικού Εργαστηρίου Αγίων Ομολογητών «Κινηματογραφικές Τετάρτες 2019»\, γίνονται σε συνεργασία με την Σουηδική Πρεσβεία στην Κύπρο και εμπίπτουν στην φετινή θεματολογία των προβολών μας που αφορά σους αγώνες των γυναικών στον σύγχρονο κόσμο . Συνεργάστηκαν επίσης το «Συνεμά Ξάνθης 3» και το Κυπριακό Κέντρο Σύγχρονου Κινηματογράφου.  \n Οι ταινίες είναι κατάλληλες για άτομα άνω των 18 ετών. \nΠληροφορίες και κρατήσεις στο τηλέφωνο 22256782 \nEnglish text follows \nTitle: Beyond Dreams \nDirected by: Rojda Sekersöz \nStarring: Evin Ahmad\, Gizem Erdogan\, Malin Persson\, Sergen Tesfai\, Ella Ahman \nYear: 2017 \nRunning Time: 92 minutes \nCountry: Sweden \nLanguage: Swedish \nSubtitles: English \nPlot: \nWhile serving her prison sentence for a failed robbery Mirja has been away from the gang and their rules. She returns home and confronts new circumstances: she brutally finds out that her mother is very ill and demanding. Mirja has to find a job or she’ll be thrown out. In her ambition to handle the situation Mirja begins to lead a double life between the family and the gang. \nThe screenings are part of the «Cinema Wednesdays 2019» program of the Cultural Workshop Agion Omologiton and are organized with the Swedish Embassy in Cyprus. The general theme is ‘the struggles of women in the modern world’. The Cyprus Contemporary Film Center and «Cynema Xanthis 3» have also collaborated for these events . \nAppropriate for persons over 18. \nInfo and reservations on tel.22256782 \n
URL:https://politistiko-ergastiri.org/index.php/event/screening-beyond-dreams/
LOCATION:Πολιτιστικό Εργαστήρι Αγίων Ομολογητών\, Αγχιάλου 1\, Λευκωσία\, 1080\, Cyprus
CATEGORIES:Εκδηλώσεις,Κινηματογράφος,Πολιτιστικό Εργαστήρι
ATTACH;FMTTYPE=image/jpeg:https://politistiko-ergastiri.org/wp-content/uploads/2019/09/FacebookCover-Beyond_Dreams_1.jpg
ORGANIZER;CN="%CE%A0%CE%BF%CE%BB%CE%B9%CF%84%CE%B9%CF%83%CF%84%CE%B9%CE%BA%CF%8C%20%20%CE%95%CF%81%CE%B3%CE%B1%CF%83%CF%84%CE%AE%CF%81%CE%B9%20%CE%91%CE%B3%CE%AF%CF%89%CE%BD%20%CE%9F%CE%BC%CE%BF%CE%BB%CE%BF%CE%B3%CE%B7%CF%84%CF%8E%CE%BD":MAILTO:info@politistiko-ergastiri.org
END:VEVENT
END:VCALENDAR