BEGIN:VCALENDAR
VERSION:2.0
PRODID:-//Politistiko Ergastiri Ayion Omoloyiton - ECPv4.9.14//NONSGML v1.0//EN
CALSCALE:GREGORIAN
METHOD:PUBLISH
X-WR-CALNAME:Politistiko Ergastiri Ayion Omoloyiton
X-ORIGINAL-URL:https://politistiko-ergastiri.org
X-WR-CALDESC:Politistiko Ergastiri Ayion Omoloyiton - Εκδηλώσεις
BEGIN:VTIMEZONE
TZID:Europe/Helsinki
BEGIN:DAYLIGHT
TZOFFSETFROM:+0200
TZOFFSETTO:+0300
TZNAME:EEST
DTSTART:20200329T010000
END:DAYLIGHT
BEGIN:STANDARD
TZOFFSETFROM:+0300
TZOFFSETTO:+0200
TZNAME:EET
DTSTART:20201025T010000
END:STANDARD
END:VTIMEZONE
BEGIN:VEVENT
DTSTART;TZID=Europe/Helsinki:20201023T193000
DTEND;TZID=Europe/Helsinki:20201023T203000
DTSTAMP:20260424T171011
CREATED:20201023T160519Z
LAST-MODIFIED:20201025T125307Z
UID:2677-1603481400-1603485000@politistiko-ergastiri.org
SUMMARY:Ψηφίδες του Χορού της Κύπρου
DESCRIPTION:Μια παρουσίαση του αρχειακού υλικού του Πολιτιστικού Εργαστηρίου που αφορά στον κυπριακό χορό. Παρουσίαση καταγραφών από το 1990 με συνεντεύξεις και οπτικογραφήσεις χορευτών της Κύπρου ως πρωτογενείς πηγές. \nΜέρος του υλικού έχει μαζευτεί κατά περίοδο που μέλη του Πολιτιστικού Εργαστηρίου ανήκαν στον Χορευτικό Όμιλο της Παιδαγωγικής Ακαδημίας Κύπρου 1988-1991. \nΠαρουσίαση Χριστιάνα Παπαδοπούλου \n
URL:https://politistiko-ergastiri.org/index.php/event/psifidesxoroutiskyproy/
LOCATION:Πολιτιστικό Εργαστήρι Αγίων Ομολογητών\, Αγχιάλου 1\, Λευκωσία\, 1080\, Cyprus
CATEGORIES:Εκδηλώσεις,Πολιτιστικό Εργαστήρι,Χορός
ATTACH;FMTTYPE=image/jpeg:https://politistiko-ergastiri.org/wp-content/uploads/2020/10/Καταγραφή-Αγρίδια-Στυλλού-Αντρούλλα-3.jpg
ORGANIZER;CN="%CE%A0%CE%BF%CE%BB%CE%B9%CF%84%CE%B9%CF%83%CF%84%CE%B9%CE%BA%CF%8C%20%20%CE%95%CF%81%CE%B3%CE%B1%CF%83%CF%84%CE%AE%CF%81%CE%B9%20%CE%91%CE%B3%CE%AF%CF%89%CE%BD%20%CE%9F%CE%BC%CE%BF%CE%BB%CE%BF%CE%B3%CE%B7%CF%84%CF%8E%CE%BD":MAILTO:info@politistiko-ergastiri.org
END:VEVENT
END:VCALENDAR