BEGIN:VCALENDAR
VERSION:2.0
PRODID:-//Politistiko Ergastiri Ayion Omoloyiton - ECPv4.9.14//NONSGML v1.0//EN
CALSCALE:GREGORIAN
METHOD:PUBLISH
X-WR-CALNAME:Politistiko Ergastiri Ayion Omoloyiton
X-ORIGINAL-URL:https://politistiko-ergastiri.org
X-WR-CALDESC:Politistiko Ergastiri Ayion Omoloyiton - Εκδηλώσεις
BEGIN:VTIMEZONE
TZID:Europe/Helsinki
BEGIN:DAYLIGHT
TZOFFSETFROM:+0200
TZOFFSETTO:+0300
TZNAME:EEST
DTSTART:20210328T010000
END:DAYLIGHT
BEGIN:STANDARD
TZOFFSETFROM:+0300
TZOFFSETTO:+0200
TZNAME:EET
DTSTART:20211031T010000
END:STANDARD
END:VTIMEZONE
BEGIN:VEVENT
DTSTART;TZID=Europe/Helsinki:20211105T160000
DTEND;TZID=Europe/Helsinki:20211106T160000
DTSTAMP:20260422T003529
CREATED:20211101T114353Z
LAST-MODIFIED:20211105T062506Z
UID:3677-1636128000-1636214400@politistiko-ergastiri.org
SUMMARY:Διημερίδα «Η καλλιέργεια της Ψηφιακής Πολιτότητας μέσω της Παιδείας για τα Μέσα» από το Παιδαγωγικό Ινστιτούτο Κύπρου και το ΤΕΠΑΚ
DESCRIPTION:Στο πλαίσιο του εορτασμού της Παγκόσμιας Εβδομάδας της Παιδείας για τα Μέσα (25 – 29 Οκτωβρίου 2021) σας ενημερώνουμε ότι το Παιδαγωγικό Ινστιτούτο Κύπρου του Υπουργείου Παιδείας\, Πολιτισμού\, Αθλητισμού και Νεολαίας και το Τεχνολογικό Πανεπιστήμιο Κύπρου διοργανώνουν Διημερίδα με τίτλο «Η καλλιέργεια της Ψηφιακής Πολιτότητας μέσω της Παιδείας για τα Μέσα». Η Διημερίδα θα πραγματοποιηθεί διαδικτυακά την Παρασκευή\, 5 Νοεμβρίου 2021 (16:00 – 18:30) και το Σάββατο\, 6 Νοεμβρίου 2021 (10:00 – 13:00). \nΗ Διημερίδα έχει ως στόχο να προάγει τη συζήτηση για τη σημαντικότητα της ανάπτυξης της Παιδείας για τα Μέσα Ενημέρωσης και Επικοινωνίας\, τόσο σε εκπαιδευτικούς όσο και σε μαθητές και μαθήτριες\, προσεγγίζοντας το θέμα μέσα από τη διάσταση της ψηφιακής πολιτότητας. Απευθύνεται σε εκπαιδευτικούς όλων των βαθμίδων εκπαίδευσης\, φοιτητές\, φοιτήτριες\, ερευνητές\, ερευνήτριες και σε όσους και όσες ενδιαφέρονται να κατανοήσουν θέματα που άπτονται της επίδρασης των σύγχρονων τεχνολογικών εξελίξεων στην εκπαίδευση και της διαμόρφωσης ψηφιακά εγγράμματων πολιτών. Στη Διημερίδα έχουν προσκληθεί διακεκριμένοι ομιλητές και ομιλήτριες από την Κύπρο και την Ελλάδα. \nΠερισσότερες πληροφορίες σχετικά με το πρόγραμμα\, τις θεματικές των εισηγήσεων\, τους ομιλητές\, τις ομιλήτριες και τη δήλωση εγγραφής\, μπορείτε να βρείτε στην ιστοσελίδα της Διημερίδας: https://www.pi.ac.cy/medialiteracy \nΗ συμμετοχή στη Διημερίδα είναι δωρεάν. Επειδή ο αριθμός των διαθέσιμων θέσεων είναι περιορισμένος\, διευκρινίζεται ότι θα τηρηθεί σειρά προτεραιότητας με βάση την ημερομηνία και την ώρα καταγραφής της δήλωσης συμμετοχής. Σημειώνεται\, τέλος\, ότι στους συμμετέχοντες και τις συμμετέχουσες θα δοθεί πιστοποιητικό παρακολούθησης. \n
URL:https://politistiko-ergastiri.org/index.php/event/psifiakipolititotita/
CATEGORIES:Εκδηλώσεις,Κινηματογράφος
END:VEVENT
END:VCALENDAR