BEGIN:VCALENDAR
VERSION:2.0
PRODID:-//Politistiko Ergastiri Ayion Omoloyiton - ECPv4.9.14//NONSGML v1.0//EN
CALSCALE:GREGORIAN
METHOD:PUBLISH
X-WR-CALNAME:Politistiko Ergastiri Ayion Omoloyiton
X-ORIGINAL-URL:https://politistiko-ergastiri.org
X-WR-CALDESC:Politistiko Ergastiri Ayion Omoloyiton - Εκδηλώσεις
BEGIN:VTIMEZONE
TZID:Europe/Helsinki
BEGIN:DAYLIGHT
TZOFFSETFROM:+0200
TZOFFSETTO:+0300
TZNAME:EEST
DTSTART:20200329T010000
END:DAYLIGHT
BEGIN:STANDARD
TZOFFSETFROM:+0300
TZOFFSETTO:+0200
TZNAME:EET
DTSTART:20201025T010000
END:STANDARD
END:VTIMEZONE
BEGIN:VEVENT
DTSTART;TZID=Europe/Helsinki:20200702T193000
DTEND;TZID=Europe/Helsinki:20200702T203000
DTSTAMP:20260423T142620
CREATED:20200623T090609Z
LAST-MODIFIED:20200623T091114Z
UID:2464-1593718200-1593721800@politistiko-ergastiri.org
SUMMARY:Presenting the European Solidarity Corps Programme
DESCRIPTION:\n\n***Ακολουθεί ελληνικό κείμενο*** \nThe ESC Programme is an incredible opportunity for young people to travel to different countries\, discover new cultures\, meet people and make friends\, volunteer\, train or work and feel a part and citizen of Europe. The young Volunteers of Politistiko Ergastiri Ayion Omoloyiton will present the ESC Programme and the opportunities it has to offer by also discussing their own personal experiences of volunteering in Cyprus\, in projects hosted by Politistiko Ergastiri\, and presenting future projects. \n\n\nFor more information click on the link below:\n\nhttps://www.facebook.com/events/955975314840797/ \nΤο πρόγραμμα ΕΣΑ (Ευρωπαϊκό Σώμα Αλληλεγγύης) είναι μια φανταστική ευκαιρία για νέους να ταξιδέψουν σε διαφορετικές χώρες\, να ανακαλύψουν νέους πολιτισμούς\, να γνωρίσουν ανθρώπους και να δημιουργήσουν φιλίες\, να κάνουν εθελοντισμό\, να εκπαιδευτούν ή να εργαστούν και να νιώσουν πολίτες της Ευρώπης. Οι νεαροί εθελοντές του Πολιτιστικού Εργαστηρίου Αγίων Ομολογητών θα παρουσιάσουν το πρόγραμμα του ΕΣΑ και τις ευκαιρίες που προσφέρει\, συζητώντας τις προσωπικές τους εμπειρίες εθελοντισμού στην Κύπρο\, σε έργα που φιλοξενεί το Πολιτιστικό Εργαστήρι και παρουσιάζοντας μελλοντικές δραστηριότητες. \n\n\n  \n
URL:https://politistiko-ergastiri.org/index.php/event/presenting-the-european-solidarity-corps-programme-2/
LOCATION:Idaliades\, Dali\, 2540\, Cyprus
CATEGORIES:Εκδηλώσεις,Ευκαιρίες
ATTACH;FMTTYPE=image/jpeg:https://politistiko-ergastiri.org/wp-content/uploads/2020/06/Evento-ESC2.jpg
END:VEVENT
END:VCALENDAR