BEGIN:VCALENDAR
VERSION:2.0
PRODID:-//Politistiko Ergastiri Ayion Omoloyiton - ECPv4.9.14//NONSGML v1.0//EN
CALSCALE:GREGORIAN
METHOD:PUBLISH
X-WR-CALNAME:Politistiko Ergastiri Ayion Omoloyiton
X-ORIGINAL-URL:https://politistiko-ergastiri.org
X-WR-CALDESC:Politistiko Ergastiri Ayion Omoloyiton - Εκδηλώσεις
BEGIN:VTIMEZONE
TZID:Europe/Helsinki
BEGIN:DAYLIGHT
TZOFFSETFROM:+0200
TZOFFSETTO:+0300
TZNAME:EEST
DTSTART:20220327T010000
END:DAYLIGHT
BEGIN:STANDARD
TZOFFSETFROM:+0300
TZOFFSETTO:+0200
TZNAME:EET
DTSTART:20221030T010000
END:STANDARD
END:VTIMEZONE
BEGIN:VEVENT
DTSTART;TZID=Europe/Helsinki:20220606T200000
DTEND;TZID=Europe/Helsinki:20220606T220000
DTSTAMP:20260421T065410
CREATED:20220519T204743Z
LAST-MODIFIED:20220520T122554Z
UID:4045-1654545600-1654552800@politistiko-ergastiri.org
SUMMARY:ΠαράΔΟΣΗ και Φύση
DESCRIPTION:Μουσικοχορευτική παράσταση αφιερωμένη στη παγκόσμια μέρα περιβάλλοντος υπό την αιγίδα του Υπουργού Γεωργίας\, Αγροτικής Ανάπτυξης και Περιβάλλοντος και της Επιτρόπου Περιβάλλοντος. Ο τρόπος σκέψης του παραδοσιακού τρόπου ζωής έφερνε μια ισορροπία ανθρώπου και περιβάλλοντος. Ίσως αυτός ο τρόπος σεβασμού και σχέσης μας φέρει πιο κοντά στην ισορροπία που έχουμε χάσει… το καμπανάκι χτυπά και η Κασσάνδρα προφητεύει.. \nΜε τους εξαιρετικούς μουσικούς\nΜιχάλη και Πέτρο Κουλουμή\, Έλενα Ξυδά\, Μιχάλη Κυπριανού και Παναγιώτη Στυλιανίδη. \nΜε χορευτές και χορωδία παραδοσιακής μουσικής του Πολιτιστικού Εργαστηρίου Αγίων Ομολογητών. \nΤιμή εισόδου: 5 ευρώ \nΣτηρίζουν: \nΠολιτιστικές Υπηρεσίες Υπουργείο Παιδείας \nΥπουργείο Γεωργίας\, Αγροτικής Ανάπτυξης και Περιβάλλοντος \nΓραφείο Επιτρόπου Περιβάλλοντος \n  \n
URL:https://politistiko-ergastiri.org/index.php/event/paradosifysi/
LOCATION:Θέατρο Στροβόλου\, λεωφόρος Στροβόλου 100\, 2020\, Cyprus
CATEGORIES:Εκδηλώσεις,Πολιτιστικό Εργαστήρι,Χορός
ATTACH;FMTTYPE=image/jpeg:https://politistiko-ergastiri.org/wp-content/uploads/2022/05/Παράσταση-ΠΑΡΑδοση-Φύση.jpg
ORGANIZER;CN="%CE%A0%CE%BF%CE%BB%CE%B9%CF%84%CE%B9%CF%83%CF%84%CE%B9%CE%BA%CF%8C%20%20%CE%95%CF%81%CE%B3%CE%B1%CF%83%CF%84%CE%AE%CF%81%CE%B9%20%CE%91%CE%B3%CE%AF%CF%89%CE%BD%20%CE%9F%CE%BC%CE%BF%CE%BB%CE%BF%CE%B3%CE%B7%CF%84%CF%8E%CE%BD":MAILTO:info@politistiko-ergastiri.org
END:VEVENT
END:VCALENDAR