BEGIN:VCALENDAR
VERSION:2.0
PRODID:-//Politistiko Ergastiri Ayion Omoloyiton - ECPv4.9.14//NONSGML v1.0//EN
CALSCALE:GREGORIAN
METHOD:PUBLISH
X-WR-CALNAME:Politistiko Ergastiri Ayion Omoloyiton
X-ORIGINAL-URL:https://politistiko-ergastiri.org
X-WR-CALDESC:Politistiko Ergastiri Ayion Omoloyiton - Εκδηλώσεις
BEGIN:VTIMEZONE
TZID:Europe/Helsinki
BEGIN:DAYLIGHT
TZOFFSETFROM:+0200
TZOFFSETTO:+0300
TZNAME:EEST
DTSTART:20190331T010000
END:DAYLIGHT
BEGIN:STANDARD
TZOFFSETFROM:+0300
TZOFFSETTO:+0200
TZNAME:EET
DTSTART:20191027T010000
END:STANDARD
END:VTIMEZONE
BEGIN:VEVENT
DTSTART;TZID=Europe/Helsinki:20191001T214500
DTEND;TZID=Europe/Helsinki:20191002T000000
DTSTAMP:20260423T111511
CREATED:20190923T142103Z
LAST-MODIFIED:20190923T142653Z
UID:1792-1569966300-1569974400@politistiko-ergastiri.org
SUMMARY:ΜΟΥΣΙΚΟ ΣΥΝΟΛΟ “ΤΡΟΠΟΣ” - Πρόσκληση για νέα μέλη
DESCRIPTION: Το Μουσικό Σύνολο “ΤΡΟΠΟΣ”\, υπό την καλλιτεχνική επιμέλεια των Μιχάλη και Πέτρου Κουλουμή\, συνεχίζει την εκπαιδευτική του δράση για τρίτη συνεχή χρονιά\, με σκοπό τη μελέτη\, διδασκαλία και παρουσίαση των μουσικών παραδόσεων της Κύπρου\, της Ελλάδας καθώς και της ευρύτερης περιοχής της Ανατολικής Μεσογείου. \n Δικαίωμα συμμετοχής έχουν άτομα ηλικίας άνω των 14 ετών που παίζουν ένα ή περισσότερα από τα παρακάτω όργανα: βιολί\, λαούτο\, ούτι\, κανονάκι\, κρουστά (ταμπουτσιά\, riq\, darbuka\, νταούλι)\, σαντούρι\, φωνή\, κοντραμπάσο\, κλαρίνο\, νέι\, κρητική/πολίτικη λύρα\, πιθκιαύλιν\, λάφτα. \nΗΜΕΡΟΜΗΝΙΑ ΚΑΙ ΩΡΑ 1ης ΣΥΝΑΝΤΗΣΗΣ ΤΡΙΤΗ\, 1η ΟΚΤΩΒΡΙΟΥ 2019\, 19:45-22:00 \nΤΟΠΟΘΕΣΙΑ \nΠολιτιστικό Εργαστήρι Αγίων Ομολογητών Αγχιάλου 1\, Λευκωσία\, 1080 \nΑΙΤΗΣΕΙΣ / ΠΛΗΡΟΦΟΡΙΕΣ \nwww.michaliskouloumis.com/tropos \nwww.politistiko-ergastiri.org \nΕΠΙΚΟΙΝΩΝΙΑ \n99529754 | 99777816 | 22256782 \nΔΙΔΑΣΚΑΛΙΑ \nΜιχάλης Κουλουμής – βιολί\, βιόλα \nΠέτρος Κουλουμής – λαούτο\, τραγούδι \nΕκπαιδευτικοί Σκοποί: \n–        Μέσα από το Μουσικό Σύνολο ΤΡΟΠΟΣ\, οι συμμετέχοντες θα έχουν την ευκαιρία να μελετήσουν παραδοσιακή μουσική από την Κύπρο\, την Ελλάδα\, τη Μικρά Ασία\, την Ανατολία και παράλληλα ρεπερτόριο από την Κλασική μουσική της Κωνσταντινούπολης (Κλασική Οθωμανική μουσική) καθώς και τη Σύγχρονη Τροπική μουσική. \n–        Ένας από τους σημαντικότερους εκπαιδευτικούς σκοπούς του συνόλου είναι η ανάδειξη της μουσικής ως ζωντανή πράξη\, τη βιωματική δηλαδή εμπειρία της μουσικής μέσα από τη διάδραση της ομάδας. \n–        Οι δημόσιες εμφανίσεις του Συνόλου ΤΡΟΠΟΣ. Η πρώτη συναυλία του Συνόλου ΤΡΟΠΟΣ δόθηκε στις 21 Ιουνίου 2018\, η επιλογή της οποίας είχε συμβολικό χαρακτήρα αφού η συγκεκριμένη ημέρα είναι ταυτόχρονα η μεγαλύτερη μέρα του έτους και η Παγκόσμια Μέρα Μουσικής. Στις 23 Απριλίου 2019 έγινε η πρώτη ηχογράφηση του Συνόλου με σκοπούς και τραγούδια από την κυπριακή μουσική στο στούντιο ηχογραφήσεων Eleven63 στη Λευκωσία. Στις προσεχείς δράσεις περιλαμβάνονται μεταξύ άλλων η ηχογράφηση των υπολοίπων κομματιών για την ολοκλήρωση μιας ψηφιακής έκδοσης που θα δημοσιευτεί\, καθώς και μια μεγάλη συναυλία του Συνόλου που έχει προγραμματιστεί να γίνει νωρίς μέσα στο 2020. \n–        Η αξιοποίηση και η καλλιέργεια του δυναμικού των ταλαντούχων νέων μουσικών της Κύπρου. \n
URL:https://politistiko-ergastiri.org/index.php/event/mousikosynolotropos/
LOCATION:Πολιτιστικό Εργαστήρι Αγίων Ομολογητών\, Αγχιάλου 1\, Λευκωσία\, 1080\, Cyprus
ATTACH;FMTTYPE=image/jpeg:https://politistiko-ergastiri.org/wp-content/uploads/2019/09/Μιχάλης-Πέτρος-Κουλουμής.jpeg
END:VEVENT
END:VCALENDAR