BEGIN:VCALENDAR
VERSION:2.0
PRODID:-//Politistiko Ergastiri Ayion Omoloyiton - ECPv4.9.14//NONSGML v1.0//EN
CALSCALE:GREGORIAN
METHOD:PUBLISH
X-WR-CALNAME:Politistiko Ergastiri Ayion Omoloyiton
X-ORIGINAL-URL:https://politistiko-ergastiri.org
X-WR-CALDESC:Politistiko Ergastiri Ayion Omoloyiton - Εκδηλώσεις
BEGIN:VTIMEZONE
TZID:Europe/Helsinki
BEGIN:DAYLIGHT
TZOFFSETFROM:+0200
TZOFFSETTO:+0300
TZNAME:EEST
DTSTART:20200329T010000
END:DAYLIGHT
BEGIN:STANDARD
TZOFFSETFROM:+0300
TZOFFSETTO:+0200
TZNAME:EET
DTSTART:20201025T010000
END:STANDARD
END:VTIMEZONE
BEGIN:VEVENT
DTSTART;TZID=Europe/Helsinki:20200328T203000
DTEND;TZID=Europe/Helsinki:20200328T233000
DTSTAMP:20260424T021542
CREATED:20200304T144817Z
LAST-MODIFIED:20200304T144817Z
UID:2274-1585427400-1585438200@politistiko-ergastiri.org
SUMMARY:Κρητική Βραδιά
DESCRIPTION:Κρητική Βραδιά\nμε τους  Αλέξανδρο Παπαδάκη\, (Λύρα\, φωνή)  Χρίστο Δαβρή (Λαούτο)\nΠαραδοσιακή και έντεχνη κρητική μουσική\,  παραδοσιακοί χοροί\, μαντινάδες\, καθιστικά τραγούδια.\nΣτο Κοσμικό Κέντρο Αντωνάκης\, \n(Αλέξανδρος Παπαδάκης: Σε ηλικία 9 ετών με δάσκαλο τον αδελφό του πατέρα του Μαθιό Παπαδάκη πιάνει για πρώτη φορά την λύρα στα χέρια του.Στη συνέχεια μαθήτευσε σε διάφορους δασκάλους όπως ο Αστρινός Ζαχαριουδάκης\, ο Γιάννης Κακουδάκης \, ο Δημητρακάκης Γιάννης.\nΙδιαίτερη όμως επιρροή στο μουσική του εξέλιξη άσκησαν ο Μελαμπιανός λυράρης Μανώλης Μαργαρίτης και ο καταξιωμένος λαουτιέρης Πέτρος Καρμπαδάκης από την Κίσσαμο. Σύμφωνα με το Λάμπρο Λιάβα (καθηγητή εθνομουσικολογίας του πανεπιστημίου Αθηνών και πρόεδρο του Μουσείου Λαϊκών Οργάνων) ο οποίος προλογίζει την πρώτη του δισκογραφκή δουλειά “Κανάρι μου\, ” ο Αλέξανδρος είναι ένας νέος με λαμπερή ματιά\, ήθος\, σεμνός και διακριτικός. Διακρίνεται για το ταλέντο και τη βαθιά μουσικότητα του σε συνδιασμό με το μεράκι και το ζήλο του να εμβαθύνει στις ρίζες της κρητικής μουσικής. \nΔιοργάνωση: Πολιτιστικό Εργαστήρι Αγίων Ομολογητών \nΚρατήσεις: 22664697\, 99633665 \nΕίσοδος:14€ \nΕισιτήρια: https://shop.tickethour.com/showEventInfo.html?idEvent=3170\nhttps://www.youtube.com/watch?v=J7kQUpkq2zM \n
URL:https://politistiko-ergastiri.org/index.php/event/kritikivradia/
LOCATION:Κοσμικό Κέντρο Αντωνάκης\, Vasiliou Voulgaroktonou 17\, Nicosia\, 1010\, Cyprus
CATEGORIES:Εκδηλώσεις,Πολιτιστικό Εργαστήρι,Χορός
ATTACH;FMTTYPE=image/jpeg:https://politistiko-ergastiri.org/wp-content/uploads/2020/03/Κρητική-Βραδιά-με-τους-Αλέξανδρο-Παπαδάκη-και- Χρίστο-Δαβρή-01.jpg
ORGANIZER;CN="%CE%A0%CE%BF%CE%BB%CE%B9%CF%84%CE%B9%CF%83%CF%84%CE%B9%CE%BA%CF%8C%20%20%CE%95%CF%81%CE%B3%CE%B1%CF%83%CF%84%CE%AE%CF%81%CE%B9%20%CE%91%CE%B3%CE%AF%CF%89%CE%BD%20%CE%9F%CE%BC%CE%BF%CE%BB%CE%BF%CE%B3%CE%B7%CF%84%CF%8E%CE%BD":MAILTO:info@politistiko-ergastiri.org
END:VEVENT
END:VCALENDAR