BEGIN:VCALENDAR
VERSION:2.0
PRODID:-//Politistiko Ergastiri Ayion Omoloyiton - ECPv4.9.14//NONSGML v1.0//EN
CALSCALE:GREGORIAN
METHOD:PUBLISH
X-WR-CALNAME:Politistiko Ergastiri Ayion Omoloyiton
X-ORIGINAL-URL:https://politistiko-ergastiri.org
X-WR-CALDESC:Politistiko Ergastiri Ayion Omoloyiton - Εκδηλώσεις
BEGIN:VTIMEZONE
TZID:Europe/Helsinki
BEGIN:DAYLIGHT
TZOFFSETFROM:+0200
TZOFFSETTO:+0300
TZNAME:EEST
DTSTART:20210328T010000
END:DAYLIGHT
BEGIN:STANDARD
TZOFFSETFROM:+0300
TZOFFSETTO:+0200
TZNAME:EET
DTSTART:20211031T010000
END:STANDARD
END:VTIMEZONE
BEGIN:VEVENT
DTSTART;VALUE=DATE:20210407
DTEND;VALUE=DATE:20210408
DTSTAMP:20260424T182658
CREATED:20210324T111939Z
LAST-MODIFIED:20210324T113111Z
UID:3183-1617753600-1617839999@politistiko-ergastiri.org
SUMMARY:JOB OPPORTUNITY: COMMUNICATION OFFICER AT EURODESK - BRUSSELS
DESCRIPTION:\n\n\n\n\n\n\n\nEurodesk is the main source of information on European policies and opportunities for young people and those who work with them. \n\nEurodesk Brussels Link coordinates the activities of national partners\, who operate within the EU’s Erasmus+ program. \n\n\n\n\n\n\n\n \n  \n\n\n\n\n\n\n\n\n\nEurodesk Brussels Link is seeking a communication officer who will be in charge of the digital strategy of the association and in particular of the below tasks: \nTasks \n\nDefines and implements a digital strategy for Eurodesk digital tools and social media channels;\nManages Eurodesk social media accounts;\nWrites content and posts for the website\, European Youth Portal\, newsletter and our social media channels;\nCreates images and videos adapted to different media and audiences;\nCoordinates the team’s efforts to share information with Eurodesk target groups (young people\, youth workers\, partners and network members);\nPlans\, runs and evaluates social media campaigns carried out on a European scale;\nBuilds a strong community of users and followers;\nKeeps updated on digital trends and behaviors of our target group (13-30-year-old)\, tests and adapts Eurodesk’s strategy accordingly;\nStrengthens the capacity of the Eurodesk network during training\, webinars and individual support;\nOther duties as directed by the director.\n\nProfile and skills required \n\nKnowledge of Facebook\, Twitter\, LinkedIn\, Instagram\, and other social media best practices and trends is requested;\nHands on experience with social media platforms and digital marketing analytics is requested;\nExcellent writing/editing skills in English is requested;\nExcellent visual skills with a lot of creativity and basic knowledge of design tools (e.g. Adobe Photoshop\, Illustrator\, Premiere Pro) is requested;\nUnderstanding Google Analytics and Google Ads is a plus;\nAn academic background in communication or equivalent is a plus;\nInterest in youth policy and youth related issues;\nAble to work in a fast-paced\, deadline-driven\, international environment;\nHave (or being able to obtain) a valid work permit for Belgium.|\n\nApplications \nIf your profile matches the requirements\, please send in English at vacancy@eurodesk.eu: \n\nCV\nMotivation letter (max. 1 page)\nPortfolio or examples of past work such as social media campaigns/posts are highly appreciated.\n\nDeadline to apply: 7 April (midnight CET).\n \n \nFor more information\, please click on the link below: \nhttps://eurodesk.eu/2021/03/24/communication-officer-eurodesk/ \n\n  \n\n\n\n\n\n\n\n\n\n\n\n
URL:https://politistiko-ergastiri.org/index.php/event/job-opportunity-communication-officer-at-eurodesk-brussels/
CATEGORIES:Ευκαιρίες,Ευρωπαϊκά Προγράμματα
ATTACH;FMTTYPE=image/jpeg:https://politistiko-ergastiri.org/wp-content/uploads/2021/03/eurodesk.jpg
END:VEVENT
END:VCALENDAR