BEGIN:VCALENDAR
VERSION:2.0
PRODID:-//Politistiko Ergastiri Ayion Omoloyiton - ECPv4.9.14//NONSGML v1.0//EN
CALSCALE:GREGORIAN
METHOD:PUBLISH
X-WR-CALNAME:Politistiko Ergastiri Ayion Omoloyiton
X-ORIGINAL-URL:https://politistiko-ergastiri.org
X-WR-CALDESC:Politistiko Ergastiri Ayion Omoloyiton - Εκδηλώσεις
BEGIN:VTIMEZONE
TZID:Europe/Helsinki
BEGIN:DAYLIGHT
TZOFFSETFROM:+0200
TZOFFSETTO:+0300
TZNAME:EEST
DTSTART:20210328T010000
END:DAYLIGHT
BEGIN:STANDARD
TZOFFSETFROM:+0300
TZOFFSETTO:+0200
TZNAME:EET
DTSTART:20211031T010000
END:STANDARD
END:VTIMEZONE
BEGIN:VEVENT
DTSTART;TZID=Europe/Helsinki:20210120T080000
DTEND;TZID=Europe/Helsinki:20210120T170000
DTSTAMP:20260424T215716
CREATED:20201209T094907Z
LAST-MODIFIED:20201209T094907Z
UID:2772-1611129600-1611162000@politistiko-ergastiri.org
SUMMARY:ESC_OPPORTUNITY_UNDER_UNITY-iOS_CYPRUS
DESCRIPTION:Volunteer with the European Solidarity Corps (ESC) and our organization\, Politistiko Ergastiri Ayion Omoloyiton\, in Cyprus!!!\nName of the project:   \nUNITY-iOS\, Education Volunteers \nDuration:  \nFebruary 2021 – June 2021 (5 months duration) \nWhere:  \n3 locations in Cyprus: Lefkosia\, Dali and Palaichori (all within the District of Lefkosia) \n  \nPlease apply via the ESC platform through the following links: \nhttps://europa.eu/youth/solidarity/placement/25172_en \nhttps://europa.eu/youth/solidarity/placement/22998_en \nhttps://europa.eu/youth/solidarity/placement/22982_en \n  \n*Please note that the calls are unfortunately currently open only for Greece\, Germany\, Cyprus\, Estonia\, Lithuania\, Latvia\, Sweden\, Finland\, and the UK – the only EU countries under Category B of the Cyprus travel categories. If you are from another EU country please apply through the email address above. \nContact information: volunteerpolitistiko@gmail.com \n  \n
URL:https://politistiko-ergastiri.org/index.php/event/esc_opportunity_under_unity-ios_cyprus/
CATEGORIES:Ευκαιρίες,Ευρωπαϊκά Προγράμματα
ATTACH;FMTTYPE=image/jpeg:https://politistiko-ergastiri.org/wp-content/uploads/2020/06/Evento-ESC2.jpg
END:VEVENT
END:VCALENDAR