BEGIN:VCALENDAR
VERSION:2.0
PRODID:-//Politistiko Ergastiri Ayion Omoloyiton - ECPv4.9.14//NONSGML v1.0//EN
CALSCALE:GREGORIAN
METHOD:PUBLISH
X-WR-CALNAME:Politistiko Ergastiri Ayion Omoloyiton
X-ORIGINAL-URL:https://politistiko-ergastiri.org
X-WR-CALDESC:Politistiko Ergastiri Ayion Omoloyiton - Εκδηλώσεις
BEGIN:VTIMEZONE
TZID:Europe/Helsinki
BEGIN:DAYLIGHT
TZOFFSETFROM:+0200
TZOFFSETTO:+0300
TZNAME:EEST
DTSTART:20200329T010000
END:DAYLIGHT
BEGIN:STANDARD
TZOFFSETFROM:+0300
TZOFFSETTO:+0200
TZNAME:EET
DTSTART:20201025T010000
END:STANDARD
END:VTIMEZONE
BEGIN:VEVENT
DTSTART;VALUE=DATE:20200318
DTEND;VALUE=DATE:20200319
DTSTAMP:20260424T052552
CREATED:20200303T131555Z
LAST-MODIFIED:20200313T090435Z
UID:2254-1584489600-1584575999@politistiko-ergastiri.org
SUMMARY:ESC_OPPORTUNITY_ FOR LONG TERM PROJECT_MALAGA_SPAIN
DESCRIPTION:WHERE: Malaga\, Spain \nWHEN: 15 October 2020 – 05 September 2021 \nWHO: 2 Volunteers from ESC Countries \nDEADLINE: 18/03/2020 \n  \nFor more information\, click on the link below: \nhttps://europaerestu.eu/esc-fundacion-alonso-quijano/ \n  \n
URL:https://politistiko-ergastiri.org/index.php/event/esc_opportunity_-for-long-term-project_malaga_spain/
CATEGORIES:Ευκαιρίες,Ευρωπαϊκά Προγράμματα,Ευρωπαϊκά Προγράμματα Εθελοντισμού
ATTACH;FMTTYPE=image/jpeg:https://politistiko-ergastiri.org/wp-content/uploads/2020/03/CALL-FOR-ESC-FUNDACION.jpg
END:VEVENT
END:VCALENDAR