BEGIN:VCALENDAR
VERSION:2.0
PRODID:-//Politistiko Ergastiri Ayion Omoloyiton - ECPv4.9.14//NONSGML v1.0//EN
CALSCALE:GREGORIAN
METHOD:PUBLISH
X-WR-CALNAME:Politistiko Ergastiri Ayion Omoloyiton
X-ORIGINAL-URL:https://politistiko-ergastiri.org
X-WR-CALDESC:Politistiko Ergastiri Ayion Omoloyiton - Εκδηλώσεις
BEGIN:VTIMEZONE
TZID:Europe/Helsinki
BEGIN:DAYLIGHT
TZOFFSETFROM:+0200
TZOFFSETTO:+0300
TZNAME:EEST
DTSTART:20200329T010000
END:DAYLIGHT
BEGIN:STANDARD
TZOFFSETFROM:+0300
TZOFFSETTO:+0200
TZNAME:EET
DTSTART:20201025T010000
END:STANDARD
END:VTIMEZONE
BEGIN:VEVENT
DTSTART;TZID=Europe/Helsinki:20200630T080000
DTEND;TZID=Europe/Helsinki:20200630T170000
DTSTAMP:20260423T165915
CREATED:20200213T094706Z
LAST-MODIFIED:20200602T080317Z
UID:2185-1593504000-1593536400@politistiko-ergastiri.org
SUMMARY:ESC OPPORTUNITY_FOR LONG TERM PROJECT_Unity-iOS_NatureRush
DESCRIPTION:– English text follows \nΤο “NatureRush” είναι μια δράση  εθελοντιμσμού για 4 Εθελοντές στο χωριό στην βορειδυτική  περιοχή Πάφου\, Κύπρος. Το έργο θα επικεντρωθεί στην περιβαλλοντική ανάπτυξη και συνεργάζεται  με το Τμήμα Δασών και το Τμήμα Αλιείας και Θαλάσσιας Προστασίας της Κύπρου. \n                                                                Περίοδος: Ιούλιος 2020 – Δεκέμβριος 2020 \nΠου: Γιαλιά\, Πάφος \nΑίτηση: Για να υποβάλετε αίτηση μέσω της πλατφόρμας ESC κάνετε κλικ στον ακόλουθο  σύνδεσμο: \nhttps://europa.eu/youth/solidarity/placement/19630_en \n  \n“NatureRush” is a project involving 4 Volunteers in Yialia\, Paphos area\, Cyprus. The project will focus on environmental development and is linked with the State’s Forest Department and Department of Fisheries and Marine life protection of Cyprus. \n        When:  July 2020 – December 2020 \n               Where:  Yialia\, Paphos area\, Cyprus \n  \nApplication: Please\, apply through the ESC platform on the following the link below \nhttps://europa.eu/youth/solidarity/placement/19630_en \n
URL:https://politistiko-ergastiri.org/index.php/event/esc-opportunity_for-long-term-project_unity-ios_naturerush/
CATEGORIES:Ευκαιρίες,Ευρωπαϊκά Προγράμματα,Ευρωπαϊκά Προγράμματα Εθελοντισμού
ATTACH;FMTTYPE=image/png:https://politistiko-ergastiri.org/wp-content/uploads/2020/02/Logo_NatureRush_ok.png
END:VEVENT
END:VCALENDAR