BEGIN:VCALENDAR
VERSION:2.0
PRODID:-//Politistiko Ergastiri Ayion Omoloyiton - ECPv4.9.14//NONSGML v1.0//EN
CALSCALE:GREGORIAN
METHOD:PUBLISH
X-WR-CALNAME:Politistiko Ergastiri Ayion Omoloyiton
X-ORIGINAL-URL:https://politistiko-ergastiri.org
X-WR-CALDESC:Politistiko Ergastiri Ayion Omoloyiton - Εκδηλώσεις
BEGIN:VTIMEZONE
TZID:Europe/Helsinki
BEGIN:DAYLIGHT
TZOFFSETFROM:+0200
TZOFFSETTO:+0300
TZNAME:EEST
DTSTART:20210328T010000
END:DAYLIGHT
BEGIN:STANDARD
TZOFFSETFROM:+0300
TZOFFSETTO:+0200
TZNAME:EET
DTSTART:20211031T010000
END:STANDARD
END:VTIMEZONE
BEGIN:VEVENT
DTSTART;TZID=Europe/Helsinki:20210208T080000
DTEND;TZID=Europe/Helsinki:20210208T170000
DTSTAMP:20260424T200041
CREATED:20210119T171328Z
LAST-MODIFIED:20210119T171328Z
UID:2915-1612771200-1612803600@politistiko-ergastiri.org
SUMMARY:ESC OPPORTUNITY IN POLAND
DESCRIPTION:Alternative education youth in Poland\nAre you looking for interesting work abroad? Do you want to gain professional experience in alternative education? Are you interested in work that will enrich your CV? And besides\, do you want to experience an unforgettable adventure in the center of Europe? \n  \n  \nWhere: Poland \nDuration: 10/11 months \nTopic: School project – Non-formal education methods in the innovative democratic\, alternative\, or special needs schools in Poland. \nFor more information click on the link\, here: http://eks.aktywnekobiety.org.pl/offers/   or contact this email address: youth.awa@gmail.com \n  \n
URL:https://politistiko-ergastiri.org/index.php/event/esc-opportunity-in-poland/
CATEGORIES:Ευκαιρίες,Ευρωπαϊκά Προγράμματα
ATTACH;FMTTYPE=image/jpeg:https://politistiko-ergastiri.org/wp-content/uploads/2021/01/POLAND-ESC.jpg
END:VEVENT
END:VCALENDAR