BEGIN:VCALENDAR
VERSION:2.0
PRODID:-//Politistiko Ergastiri Ayion Omoloyiton - ECPv4.9.14//NONSGML v1.0//EN
CALSCALE:GREGORIAN
METHOD:PUBLISH
X-WR-CALNAME:Politistiko Ergastiri Ayion Omoloyiton
X-ORIGINAL-URL:https://politistiko-ergastiri.org
X-WR-CALDESC:Politistiko Ergastiri Ayion Omoloyiton - Εκδηλώσεις
BEGIN:VTIMEZONE
TZID:Europe/Helsinki
BEGIN:DAYLIGHT
TZOFFSETFROM:+0200
TZOFFSETTO:+0300
TZNAME:EEST
DTSTART:20200329T010000
END:DAYLIGHT
BEGIN:STANDARD
TZOFFSETFROM:+0300
TZOFFSETTO:+0200
TZNAME:EET
DTSTART:20201025T010000
END:STANDARD
END:VTIMEZONE
BEGIN:VEVENT
DTSTART;TZID=Europe/Helsinki:20200615T080000
DTEND;TZID=Europe/Helsinki:20200615T170000
DTSTAMP:20260423T194906
CREATED:20200511T081503Z
LAST-MODIFIED:20200511T081503Z
UID:2406-1592208000-1592240400@politistiko-ergastiri.org
SUMMARY:ESC - 5 NEW OPPORTUNITIES IN POLAND
DESCRIPTION:WHO: Volunteers from the (EU) and (extra EU) \nTYPE OF PROJECT: 12 months (START IN SEPTEMBER). \nWHERE: Gdynia\, Poland. \nDEADLINE: 15th of June. \nEach candidate should fill the online application form that is available on our website. (see the links below)  ————————————————————————————— \n\n1) Volunteering in Culture Station\, City Pulic Library in Rumia\n\nhttp://cwm.org.pl/wolontariat-miedzynarodowy/516/2\n\n2) Volunteering in Assocation for Children and Youth “VITAVA”\nhttp://cwm.org.pl/wolontariat-miedzynarodowy/517/2\n\n3) Volunteering in Saint Nicolas Bishop Assocation\nhttp://cwm.org.pl/wolontariat-miedzynarodowy/540/2\n\n4) Volunteering in EXPERYMENT Science Centre\nhttp://cwm.org.pl/wolontariat-miedzynarodowy/543/2 \n5) Volunteering in Gdynian Social School\nhttp://cwm.org.pl/wolontariat-miedzynarodowy/555/2\n\n\n  \n
URL:https://politistiko-ergastiri.org/index.php/event/esc-5-new-opportunities-in-poland/
CATEGORIES:Ευκαιρίες,Ευρωπαϊκά Προγράμματα
ATTACH;FMTTYPE=image/png:https://politistiko-ergastiri.org/wp-content/uploads/2020/05/Poland_opportunities_2.png
END:VEVENT
END:VCALENDAR