BEGIN:VCALENDAR
VERSION:2.0
PRODID:-//Politistiko Ergastiri Ayion Omoloyiton - ECPv4.9.14//NONSGML v1.0//EN
CALSCALE:GREGORIAN
METHOD:PUBLISH
X-WR-CALNAME:Politistiko Ergastiri Ayion Omoloyiton
X-ORIGINAL-URL:https://politistiko-ergastiri.org
X-WR-CALDESC:Politistiko Ergastiri Ayion Omoloyiton - Εκδηλώσεις
BEGIN:VTIMEZONE
TZID:Europe/Helsinki
BEGIN:DAYLIGHT
TZOFFSETFROM:+0200
TZOFFSETTO:+0300
TZNAME:EEST
DTSTART:20190331T010000
END:DAYLIGHT
BEGIN:STANDARD
TZOFFSETFROM:+0300
TZOFFSETTO:+0200
TZNAME:EET
DTSTART:20191027T010000
END:STANDARD
END:VTIMEZONE
BEGIN:VEVENT
DTSTART;TZID=Europe/Helsinki:20190421T173000
DTEND;TZID=Europe/Helsinki:20190421T190000
DTSTAMP:20260425T222220
CREATED:20190715T065506Z
LAST-MODIFIED:20191202T103738Z
UID:1331-1555867800-1555873200@politistiko-ergastiri.org
SUMMARY:Καραγκιόζης και Χορός
DESCRIPTION:Ελάτε να παρακολουθήσετε την παράσταση “Ο γάμος του μπαρμπα-Γιώργου”\, σε θέατρο σκιών με τον Θεοδωρή Κωστιδάκη\,\nαλλά αυτή τη φορά σε συνδυασμό με παραδοσιακό χορό. Μέσα από τις φιγούρες του Καραγκιόζη θα ξεδιπλώνονται παραδοσιακοί χοροί από τις διάφορες περιοχές Ελλάδας και Κύπρου. \nΤους χορούς παρουσιάζουν οι παιδικές ομάδες του Πολιτιστικού Εργαστηρίου Αγ. Ομολογητών \n\nΠερισσότερες πληροφορίες 99 633 665\nΕίσοδος 5 ευρώ.\nΣτο Οίκημα της ΠΟΕΔ στο Πλατύ Αγλατζιάς \nΧορηγός: Παγκύπρια Οργάνωση Ελλήνων Δασκάλων (ΠΟΕΔ) \n\n
URL:https://politistiko-ergastiri.org/index.php/event/el-karagkiozis-kai-xoros/
LOCATION:Οίκημα της ΠΟΕΔ-Πλατύ Αγλαντζιάς
CATEGORIES:Εκδηλώσεις,Χορός
ATTACH;FMTTYPE=image/jpeg:https://politistiko-ergastiri.org/wp-content/uploads/2019/07/Καραγκιόζης-και-χορός-01-01.jpg
ORGANIZER;CN="%CE%A0%CE%BF%CE%BB%CE%B9%CF%84%CE%B9%CF%83%CF%84%CE%B9%CE%BA%CF%8C%20%20%CE%95%CF%81%CE%B3%CE%B1%CF%83%CF%84%CE%AE%CF%81%CE%B9%20%CE%91%CE%B3%CE%AF%CF%89%CE%BD%20%CE%9F%CE%BC%CE%BF%CE%BB%CE%BF%CE%B3%CE%B7%CF%84%CF%8E%CE%BD":MAILTO:info@politistiko-ergastiri.org
END:VEVENT
END:VCALENDAR