BEGIN:VCALENDAR
VERSION:2.0
PRODID:-//Politistiko Ergastiri Ayion Omoloyiton - ECPv4.9.14//NONSGML v1.0//EN
CALSCALE:GREGORIAN
METHOD:PUBLISH
X-WR-CALNAME:Politistiko Ergastiri Ayion Omoloyiton
X-ORIGINAL-URL:https://politistiko-ergastiri.org
X-WR-CALDESC:Politistiko Ergastiri Ayion Omoloyiton - Εκδηλώσεις
BEGIN:VTIMEZONE
TZID:Europe/Helsinki
BEGIN:DAYLIGHT
TZOFFSETFROM:+0200
TZOFFSETTO:+0300
TZNAME:EEST
DTSTART:20190331T010000
END:DAYLIGHT
BEGIN:STANDARD
TZOFFSETFROM:+0300
TZOFFSETTO:+0200
TZNAME:EET
DTSTART:20191027T010000
END:STANDARD
END:VTIMEZONE
BEGIN:VEVENT
DTSTART;TZID=Europe/Helsinki:20190927T093000
DTEND;TZID=Europe/Helsinki:20190927T230000
DTSTAMP:20260423T092832
CREATED:20190819T121502Z
LAST-MODIFIED:20191202T103717Z
UID:1594-1569576600-1569625200@politistiko-ergastiri.org
SUMMARY:Έναρξη Εργαστηρίων Χορού Ενηλίκων
DESCRIPTION:Τα Εργαστήρια χορού για παιδιά και έφηβους ξεκινούν Τρίτη 24 Σεπτεμβρίου 2019. \nΤα Εργαστήρια χορού για ενήλικες ξεκινούν Παρασκευή 27 Σεπτεμβρίου. \nΓια πληροφορίες και εγγραφές: 22256782 \n
URL:https://politistiko-ergastiri.org/index.php/event/chorosenilikes/
LOCATION:Πολιτιστικό Εργαστήρι Αγίων Ομολογητών\, Αγχιάλου 1\, Λευκωσία\, 1080\, Cyprus
CATEGORIES:Εκδηλώσεις,Πολιτιστικό Εργαστήρι,Χορός
ATTACH;FMTTYPE=image/jpeg:https://politistiko-ergastiri.org/wp-content/uploads/2019/08/εργαστήρι-για-παιδιά-02.jpg
END:VEVENT
END:VCALENDAR