BEGIN:VCALENDAR
VERSION:2.0
PRODID:-//Politistiko Ergastiri Ayion Omoloyiton - ECPv4.9.14//NONSGML v1.0//EN
CALSCALE:GREGORIAN
METHOD:PUBLISH
X-WR-CALNAME:Politistiko Ergastiri Ayion Omoloyiton
X-ORIGINAL-URL:https://politistiko-ergastiri.org
X-WR-CALDESC:Politistiko Ergastiri Ayion Omoloyiton - Εκδηλώσεις
BEGIN:VTIMEZONE
TZID:Europe/Helsinki
BEGIN:DAYLIGHT
TZOFFSETFROM:+0200
TZOFFSETTO:+0300
TZNAME:EEST
DTSTART:20220327T010000
END:DAYLIGHT
BEGIN:STANDARD
TZOFFSETFROM:+0300
TZOFFSETTO:+0200
TZNAME:EET
DTSTART:20221030T010000
END:STANDARD
END:VTIMEZONE
BEGIN:VEVENT
DTSTART;TZID=Europe/Helsinki:20220927T181500
DTEND;TZID=Europe/Helsinki:20220927T194500
DTSTAMP:20260421T032951
CREATED:20220804T120536Z
LAST-MODIFIED:20220805T073452Z
UID:1591-1664302500-1664307900@politistiko-ergastiri.org
SUMMARY:Έναρξη Εργαστηρίων Χορού-Παιδιά & Έφηβοι
DESCRIPTION:Τα Εργαστήρια χορού για παιδιά  ξεκινούν Τρίτη 27 Σεπτεμβρίου 2022 18:15-19:15 και για τους εφήβους 18:15-19:45 \nΤα Εργαστήρια χορού για ενήλικες ξεκινούν Παρασκευή 14 Οκτωβρίου 2022 στις 19:15 (για νέα μέλη) \nΗ χορωδία Παραδοσιακής Μουσικής ξεκινά την Παρασκευή 14 Οκτωβρίου 2022 στις 18:00 \nΓια πληροφορίες και εγγραφές: 22256782 \nΠερισσότερες πληροφορίες  \n
URL:https://politistiko-ergastiri.org/index.php/event/chorosefivoipaidia/
LOCATION:Πολιτιστικό Εργαστήρι Αγίων Ομολογητών\, Αγχιάλου 1\, Λευκωσία\, 1080\, Cyprus
CATEGORIES:Εκδηλώσεις,Πολιτιστικό Εργαστήρι,Χορός
ATTACH;FMTTYPE=image/jpeg:https://politistiko-ergastiri.org/wp-content/uploads/2022/08/έναρξη-scaled.jpg
END:VEVENT
END:VCALENDAR