BEGIN:VCALENDAR
VERSION:2.0
PRODID:-//Politistiko Ergastiri Ayion Omoloyiton - ECPv4.9.14//NONSGML v1.0//EN
CALSCALE:GREGORIAN
METHOD:PUBLISH
X-WR-CALNAME:Politistiko Ergastiri Ayion Omoloyiton
X-ORIGINAL-URL:https://politistiko-ergastiri.org
X-WR-CALDESC:Politistiko Ergastiri Ayion Omoloyiton - Εκδηλώσεις
BEGIN:VTIMEZONE
TZID:Europe/Helsinki
BEGIN:DAYLIGHT
TZOFFSETFROM:+0200
TZOFFSETTO:+0300
TZNAME:EEST
DTSTART:20200329T010000
END:DAYLIGHT
BEGIN:STANDARD
TZOFFSETFROM:+0300
TZOFFSETTO:+0200
TZNAME:EET
DTSTART:20201025T010000
END:STANDARD
END:VTIMEZONE
BEGIN:VEVENT
DTSTART;TZID=Europe/Helsinki:20200929T210000
DTEND;TZID=Europe/Helsinki:20200929T231500
DTSTAMP:20260424T022222
CREATED:20200919T165641Z
LAST-MODIFIED:20200919T165700Z
UID:2587-1601413200-1601421300@politistiko-ergastiri.org
SUMMARY:10 Χρόνια μετά! Μουσική Βραδιά
DESCRIPTION:Δέκα χρόνια μετά. Δέκα χρόνια ξανά. Πάμε μια βόλτα\, πάμε εμεις κι εσεις. Η Σαββίνα Γεωργίου και ο Στέλιος Καλλιστράτης\, συναντιούνται ξανά μουσικά\, δέκα χρόνια μετά και μας χαρίζουν τα αγαπημένα τους τραγούδια. Ανεβαστικά και κατεβαστικά. Νέα\, παλιά και πιο παλιά. Το πρόγραμμα περιεχει απότομες εναλλαγές συναισθημάτων. Απολαύστε υπεύθυνα. Είσοο Θέσεις περιορισμένες και μόνο με κράτηση. \nΕίσοδος: 10 ευρώ (με ένα ποτό)\nΤηλ. Επικοινωνίας για κρατήσεις μέσω sms: 99633665‬ \n
URL:https://politistiko-ergastiri.org/index.php/event/10chroniameta/
LOCATION:Πολιτιστικό Εργαστήρι Αγίων Ομολογητών\, Αγχιάλου 1\, Λευκωσία\, 1080\, Cyprus
CATEGORIES:Εκδηλώσεις
ATTACH;FMTTYPE=image/jpeg:https://politistiko-ergastiri.org/wp-content/uploads/2020/09/DSC_0258editedflipped.jpg
END:VEVENT
END:VCALENDAR